BEGIN:VCALENDAR
VERSION:2.0
PRODID:-//Ohio Life Sciences - ECPv6.15.18//NONSGML v1.0//EN
CALSCALE:GREGORIAN
METHOD:PUBLISH
X-ORIGINAL-URL:https://ohiolifesciences.org
X-WR-CALDESC:Events for Ohio Life Sciences
REFRESH-INTERVAL;VALUE=DURATION:PT1H
X-Robots-Tag:noindex
X-PUBLISHED-TTL:PT1H
BEGIN:VTIMEZONE
TZID:America/New_York
BEGIN:DAYLIGHT
TZOFFSETFROM:-0500
TZOFFSETTO:-0400
TZNAME:EDT
DTSTART:20240310T070000
END:DAYLIGHT
BEGIN:STANDARD
TZOFFSETFROM:-0400
TZOFFSETTO:-0500
TZNAME:EST
DTSTART:20241103T060000
END:STANDARD
BEGIN:DAYLIGHT
TZOFFSETFROM:-0500
TZOFFSETTO:-0400
TZNAME:EDT
DTSTART:20250309T070000
END:DAYLIGHT
BEGIN:STANDARD
TZOFFSETFROM:-0400
TZOFFSETTO:-0500
TZNAME:EST
DTSTART:20251102T060000
END:STANDARD
BEGIN:DAYLIGHT
TZOFFSETFROM:-0500
TZOFFSETTO:-0400
TZNAME:EDT
DTSTART:20260308T070000
END:DAYLIGHT
BEGIN:STANDARD
TZOFFSETFROM:-0400
TZOFFSETTO:-0500
TZNAME:EST
DTSTART:20261101T060000
END:STANDARD
END:VTIMEZONE
BEGIN:VEVENT
DTSTART;TZID=America/New_York:20250811T080000
DTEND;TZID=America/New_York:20251210T170000
DTSTAMP:20260419T225707
CREATED:20250629T090735Z
LAST-MODIFIED:20250719T144002Z
UID:10000275-1754899200-1765386000@ohiolifesciences.org
SUMMARY:Current Good Manufacturing Practice (cGMP) Fundamentals
DESCRIPTION:Manufacturers in our community are recruiting talent with cGMP skills into high-growth jobs. Butler Tech’s Adult Education cGMP Fundamentals training program will prepare you for these good-paying\, in-demand jobs\, and we help you with employment placement when you complete the program. \nThis short-term\, no-cost program will equip you with the technical and professional skills required to pursue a rewarding career in pharmaceutical\, food\, beauty\, and personal care product manufacturing.
URL:https://ohiolifesciences.org/event/current-good-manufacturing-practice-cgmp-fundamentals/
LOCATION:Butler Tech LeSourdsville Campus\, 101 Jerry Couch Blvd.\, Middletown\, OH\, 45044\, United States
CATEGORIES:Training & Career Development,Workforce & Careers
ATTACH;FMTTYPE=image/jpeg:https://ohiolifesciences.org/wp-content/uploads/2025/06/ButlerTech-800-x-800-px.jpg
END:VEVENT
BEGIN:VEVENT
DTSTART;TZID=America/New_York:20251104T130000
DTEND;TZID=America/New_York:20251104T160000
DTSTAMP:20260419T225707
CREATED:20251007T211810Z
LAST-MODIFIED:20251007T212115Z
UID:10000283-1762261200-1762272000@ohiolifesciences.org
SUMMARY:CWRU 2025 Networking Day
DESCRIPTION:This event offers a unique opportunity to share your professional journey\, offer career insights\, and engage with students eager to learn more about your field. Whether you’re looking to inspire the next generation\, scout future collaborators\, or simply enjoy meaningful conversations\, your presence would be invaluable.
URL:https://ohiolifesciences.org/event/cwru-2025-networking-day/
LOCATION:11111 Euclid Ave\, Cleveland\, OH 44106\, 11111 Euclid Ave\, \, OH\, Cleveland\, Ohio\, 44106\, United States
CATEGORIES:Networking,Workforce & Careers
ATTACH;FMTTYPE=image/jpeg:https://ohiolifesciences.org/wp-content/uploads/2025/10/CWRU_REV.jpg
END:VEVENT
BEGIN:VEVENT
DTSTART;TZID=America/New_York:20251120T120000
DTEND;TZID=America/New_York:20251120T130000
DTSTAMP:20260419T225707
CREATED:20250412T205817Z
LAST-MODIFIED:20250412T205817Z
UID:10000216-1763640000-1763643600@ohiolifesciences.org
SUMMARY:Non-Dilutive Funding for Life Sciences: G2G’s Monthly GBG Reporting Service Webinar
DESCRIPTION:G2G hosts this online event to give bioscience companies (e.g. therapeutics\, diagnostics\, medical device\, digital health\, etc.) the chance to learn about non-dilutive funding opportunities \nEvery third Thursday of the month\, G2G hosts this online event to share non-dilutive funding opportunities for life sciences. \n12-12:30pm (ET) | Free & Open to All12:30-1pm (ET) | Customers Receive: \n\nGBG Report\nPrivate session with customers and the G2G team — obtain consultation and insights on funding and government opportunities to fit your needs
URL:https://ohiolifesciences.org/event/non-dilutive-funding-for-life-sciences-g2gs-monthly-gbg-reporting-service-webinar/2025-11-20/
LOCATION:Zoom
CATEGORIES:Access to Capital,Online Event,Virtual Events & Webinars
ATTACH;FMTTYPE=image/png:https://ohiolifesciences.org/wp-content/uploads/2025/04/g2g-800-x-800-px-1.png
END:VEVENT
BEGIN:VEVENT
DTSTART;TZID=America/New_York:20251121T130000
DTEND;TZID=America/New_York:20251121T134500
DTSTAMP:20260419T225707
CREATED:20250925T174056Z
LAST-MODIFIED:20251010T225126Z
UID:10000280-1763730000-1763732700@ohiolifesciences.org
SUMMARY:MedTech at AtriCure: BioPathways Virtual Visit
DESCRIPTION:Nov. 21. Online. \nMS/HS students explore STEM integration in biomedical engineering at AtriCure’s Ohio headquarters! Students discover how biology\, physics\, chemistry\, and engineering design create medical devices that help patients with heart conditions. \nExpert John Dreyer demonstrates how AtriCure engineers design\, test\, and assemble heart surgery devices\, showcasing careers in medical device innovation. Students submit questions for live Q&A with AtriCure’s biomedical engineering team. \nPerfect for biology\, AP biology\, anatomy and physiology\, physics\, chemistry\, STEM\, and career tech classes studying engineering design and career exploration. \nRegister now for this virtual visit and receive a recording you can play on-demand for multiple classes.
URL:https://ohiolifesciences.org/event/medtech-at-atricure-biopathways-virtual-visit/
LOCATION:OH
CATEGORIES:OLS Signature,Workforce & Careers,Workshop
ATTACH;FMTTYPE=image/jpeg:https://ohiolifesciences.org/wp-content/uploads/2025/09/10_28Website-Event-800-x-800-px.jpg
END:VEVENT
END:VCALENDAR