BEGIN:VCALENDAR
VERSION:2.0
PRODID:-//Ohio Life Sciences - ECPv6.15.18//NONSGML v1.0//EN
CALSCALE:GREGORIAN
METHOD:PUBLISH
X-ORIGINAL-URL:https://ohiolifesciences.org
X-WR-CALDESC:Events for Ohio Life Sciences
REFRESH-INTERVAL;VALUE=DURATION:PT1H
X-Robots-Tag:noindex
X-PUBLISHED-TTL:PT1H
BEGIN:VTIMEZONE
TZID:America/New_York
BEGIN:DAYLIGHT
TZOFFSETFROM:-0500
TZOFFSETTO:-0400
TZNAME:EDT
DTSTART:20240310T070000
END:DAYLIGHT
BEGIN:STANDARD
TZOFFSETFROM:-0400
TZOFFSETTO:-0500
TZNAME:EST
DTSTART:20241103T060000
END:STANDARD
BEGIN:DAYLIGHT
TZOFFSETFROM:-0500
TZOFFSETTO:-0400
TZNAME:EDT
DTSTART:20250309T070000
END:DAYLIGHT
BEGIN:STANDARD
TZOFFSETFROM:-0400
TZOFFSETTO:-0500
TZNAME:EST
DTSTART:20251102T060000
END:STANDARD
BEGIN:DAYLIGHT
TZOFFSETFROM:-0500
TZOFFSETTO:-0400
TZNAME:EDT
DTSTART:20260308T070000
END:DAYLIGHT
BEGIN:STANDARD
TZOFFSETFROM:-0400
TZOFFSETTO:-0500
TZNAME:EST
DTSTART:20261101T060000
END:STANDARD
END:VTIMEZONE
BEGIN:VEVENT
DTSTART;TZID=America/New_York:20250616T080000
DTEND;TZID=America/New_York:20250619T170000
DTSTAMP:20260420T061944
CREATED:20250310T144458Z
LAST-MODIFIED:20250310T151136Z
UID:10000203-1750060800-1750352400@ohiolifesciences.org
SUMMARY:The world can’t wait for BIO 2025.
DESCRIPTION:Join us in Boston from June 16-19\, 2025\, to connect\, collaborate\, and shape the future of biotechnology. Early bird discount expires March 20\, 2025. Register now.
URL:https://ohiolifesciences.org/event/the-world-cant-wait-for-bio-2025/
LOCATION:Boston Convention & Exhibition Center\, 415 Summer Street\, Boston\, MA\, 02110\, United States
CATEGORIES:Partner Event
ATTACH;FMTTYPE=image/jpeg:https://ohiolifesciences.org/wp-content/uploads/2025/03/Bio2025.jpg
GEO:42.3466796;-71.0450131
X-APPLE-STRUCTURED-LOCATION;VALUE=URI;X-ADDRESS=Boston Convention & Exhibition Center 415 Summer Street Boston MA 02110 United States;X-APPLE-RADIUS=500;X-TITLE=415 Summer Street:geo:-71.0450131,42.3466796
END:VEVENT
BEGIN:VEVENT
DTSTART;TZID=America/New_York:20250617T160000
DTEND;TZID=America/New_York:20250617T180000
DTSTAMP:20260420T061944
CREATED:20250413T200320Z
LAST-MODIFIED:20250413T200320Z
UID:10000269-1750176000-1750183200@ohiolifesciences.org
SUMMARY:Ohio Pavilion Reception at BIO 2025 Booth #1865
DESCRIPTION:Join us at the Ohio Pavilion (Booth #1865) for an exclusive networking reception during BIO International Convention 2025! \nEnjoy drinks\, appetizers\, and engaging conversations with Ohio’s leading life sciences innovators and industry professionals.
URL:https://ohiolifesciences.org/event/ohio-pavilion-reception-at-bio-2025-booth-1865/
LOCATION:Boston Convention and Exhibition Center\, 415 Summer St\,\, Boston\, MA\, 02210
CATEGORIES:Networking,OLS Signature
ATTACH;FMTTYPE=image/png:https://ohiolifesciences.org/wp-content/uploads/2025/04/Bio2025_Pavilion-5.png
ORGANIZER;CN="Ohio Life Sciences":MAILTO:ols@ohiolifesciences.org
END:VEVENT
BEGIN:VEVENT
DTSTART;TZID=America/New_York:20250619T120000
DTEND;TZID=America/New_York:20250619T130000
DTSTAMP:20260420T061944
CREATED:20250412T205817Z
LAST-MODIFIED:20250412T205817Z
UID:10000211-1750334400-1750338000@ohiolifesciences.org
SUMMARY:Non-Dilutive Funding for Life Sciences: G2G’s Monthly GBG Reporting Service Webinar
DESCRIPTION:G2G hosts this online event to give bioscience companies (e.g. therapeutics\, diagnostics\, medical device\, digital health\, etc.) the chance to learn about non-dilutive funding opportunities \nEvery third Thursday of the month\, G2G hosts this online event to share non-dilutive funding opportunities for life sciences. \n12-12:30pm (ET) | Free & Open to All12:30-1pm (ET) | Customers Receive: \n\nGBG Report\nPrivate session with customers and the G2G team — obtain consultation and insights on funding and government opportunities to fit your needs
URL:https://ohiolifesciences.org/event/non-dilutive-funding-for-life-sciences-g2gs-monthly-gbg-reporting-service-webinar/2025-06-19/
LOCATION:Zoom
CATEGORIES:Access to Capital,Online Event,Virtual Events & Webinars
ATTACH;FMTTYPE=image/png:https://ohiolifesciences.org/wp-content/uploads/2025/04/g2g-800-x-800-px-1.png
END:VEVENT
BEGIN:VEVENT
DTSTART;TZID=America/New_York:20250626T080000
DTEND;TZID=America/New_York:20250626T180000
DTSTAMP:20260420T061944
CREATED:20250523T011342Z
LAST-MODIFIED:20250531T170458Z
UID:10000274-1750924800-1750960800@ohiolifesciences.org
SUMMARY:2025 SportsLand™
DESCRIPTION:Whether you’re an athlete\, a healthcare executive\, a tech entrepreneur\, or simply passionate about innovation\, the SportsLand™ Summit 2025 is your chance to be part of a movement shaping the future of sports and human performance. \n 
URL:https://ohiolifesciences.org/event/2025-sportsland/
LOCATION:Huntington Bank Field\, 100 Alfred Lerner Way\, Cleveland\, OH\, 44114\, United States
CATEGORIES:Healthcare,Partner Event,Research & Development
ATTACH;FMTTYPE=image/png:https://ohiolifesciences.org/wp-content/uploads/2025/05/NEWWEB_Shrink_EventsFINAL-2.png
END:VEVENT
END:VCALENDAR