BEGIN:VCALENDAR
VERSION:2.0
PRODID:-//Ohio Life Sciences - ECPv6.15.18//NONSGML v1.0//EN
CALSCALE:GREGORIAN
METHOD:PUBLISH
X-ORIGINAL-URL:https://ohiolifesciences.org
X-WR-CALDESC:Events for Ohio Life Sciences
REFRESH-INTERVAL;VALUE=DURATION:PT1H
X-Robots-Tag:noindex
X-PUBLISHED-TTL:PT1H
BEGIN:VTIMEZONE
TZID:America/New_York
BEGIN:DAYLIGHT
TZOFFSETFROM:-0500
TZOFFSETTO:-0400
TZNAME:EDT
DTSTART:20240310T070000
END:DAYLIGHT
BEGIN:STANDARD
TZOFFSETFROM:-0400
TZOFFSETTO:-0500
TZNAME:EST
DTSTART:20241103T060000
END:STANDARD
BEGIN:DAYLIGHT
TZOFFSETFROM:-0500
TZOFFSETTO:-0400
TZNAME:EDT
DTSTART:20250309T070000
END:DAYLIGHT
BEGIN:STANDARD
TZOFFSETFROM:-0400
TZOFFSETTO:-0500
TZNAME:EST
DTSTART:20251102T060000
END:STANDARD
BEGIN:DAYLIGHT
TZOFFSETFROM:-0500
TZOFFSETTO:-0400
TZNAME:EDT
DTSTART:20260308T070000
END:DAYLIGHT
BEGIN:STANDARD
TZOFFSETFROM:-0400
TZOFFSETTO:-0500
TZNAME:EST
DTSTART:20261101T060000
END:STANDARD
END:VTIMEZONE
BEGIN:VEVENT
DTSTART;TZID=America/New_York:20250404T080000
DTEND;TZID=America/New_York:20250404T170000
DTSTAMP:20260420T091704
CREATED:20250329T160318Z
LAST-MODIFIED:20250329T160318Z
UID:10000207-1743753600-1743786000@ohiolifesciences.org
SUMMARY:Forging the Future of Healthcare
DESCRIPTION:A dynamic day packed with interdisciplinary dialogue about the Now\, Near\, & Next in healthcare delivery\, innovation\, legislation &\nregulation.
URL:https://ohiolifesciences.org/event/forging-the-future-of-healthcare/
LOCATION:University of Akron Law School\, 150 University Avenue\, Akron\, OH\, 44325\, United States
CATEGORIES:Healthcare
ATTACH;FMTTYPE=image/jpeg:https://ohiolifesciences.org/wp-content/uploads/2025/03/Event_Jon.jpg
END:VEVENT
BEGIN:VEVENT
DTSTART;TZID=America/New_York:20250416T120000
DTEND;TZID=America/New_York:20250416T170000
DTSTAMP:20260420T091704
CREATED:20250329T164117Z
LAST-MODIFIED:20250329T164504Z
UID:10000208-1744804800-1744822800@ohiolifesciences.org
SUMMARY:2025 Networking Day- Case Western Reserve University
DESCRIPTION:Finding advanced degree talent tailored to a company’s specific needs can be challenging\, just as grad students and postdocs often struggle to identify industry roles that align with their specialized skill sets. Networking Day bridges this gap\, providing a unique platform for employers and local Cleveland talent with advanced degrees to connect meaningfully.
URL:https://ohiolifesciences.org/event/2025-networking-day-case-western-reserve-university/
LOCATION:Tinkham Veale University Center  11038 Bellflower Road Cleveland\, OH 44106\, 11038 Bellflower Road\, Cleveland\, OH\, 44106\, United States
CATEGORIES:Networking,Partner Event
ATTACH;FMTTYPE=image/jpeg:https://ohiolifesciences.org/wp-content/uploads/2025/03/Event_Case_Western.jpg
END:VEVENT
BEGIN:VEVENT
DTSTART;TZID=America/New_York:20250416T130000
DTEND;TZID=America/New_York:20250416T134500
DTSTAMP:20260420T091704
CREATED:20250321T233100Z
LAST-MODIFIED:20250321T233100Z
UID:10000206-1744808400-1744811100@ohiolifesciences.org
SUMMARY:The Life Sciences Travel Playbook: A Guide to Overcoming Life Sciences Travel Challenges
DESCRIPTION:In Life Sciences\, time is everything. From clinical trials to commercial launches\, your work drives innovation\, but travel challenges can slow you down. Compliance complexities\, diverse traveler needs\, and global logistics shouldn’t stand in the way of breakthroughs. \nThis webinar dives into the biggest pain points in Life Sciences travel and how to overcome them. Our experts will share strategies to simplify travel management\, maintain compliance\, and optimize costs—all while keeping your teams focused on what matters most.
URL:https://ohiolifesciences.org/event/the-life-sciences-travel-playbook-a-guide-to-overcoming-life-sciences-travel-challenges/
LOCATION:
CATEGORIES:Virtual Events & Webinars
ATTACH;FMTTYPE=image/png:https://ohiolifesciences.org/wp-content/uploads/2025/03/ct-us-life-sciences-webinar-banners-PARTNER-800x800-1.png
END:VEVENT
BEGIN:VEVENT
DTSTART;TZID=America/New_York:20250417T120000
DTEND;TZID=America/New_York:20250417T130000
DTSTAMP:20260420T091704
CREATED:20250412T205817Z
LAST-MODIFIED:20250412T205817Z
UID:10000209-1744891200-1744894800@ohiolifesciences.org
SUMMARY:Non-Dilutive Funding for Life Sciences: G2G’s Monthly GBG Reporting Service Webinar
DESCRIPTION:G2G hosts this online event to give bioscience companies (e.g. therapeutics\, diagnostics\, medical device\, digital health\, etc.) the chance to learn about non-dilutive funding opportunities \nEvery third Thursday of the month\, G2G hosts this online event to share non-dilutive funding opportunities for life sciences. \n12-12:30pm (ET) | Free & Open to All12:30-1pm (ET) | Customers Receive: \n\nGBG Report\nPrivate session with customers and the G2G team — obtain consultation and insights on funding and government opportunities to fit your needs
URL:https://ohiolifesciences.org/event/non-dilutive-funding-for-life-sciences-g2gs-monthly-gbg-reporting-service-webinar/2025-04-17/
LOCATION:Zoom
CATEGORIES:Access to Capital,Online Event,Virtual Events & Webinars
ATTACH;FMTTYPE=image/png:https://ohiolifesciences.org/wp-content/uploads/2025/04/g2g-800-x-800-px-1.png
END:VEVENT
BEGIN:VEVENT
DTSTART;TZID=America/New_York:20250423T160000
DTEND;TZID=America/New_York:20250423T180000
DTSTAMP:20260420T091704
CREATED:20250321T115706Z
LAST-MODIFIED:20250329T161045Z
UID:10000205-1745424000-1745431200@ohiolifesciences.org
SUMMARY:Pathfinders: Advancing Ohio’s Life Sciences Industry
DESCRIPTION:Join us for Pathfinders\, an exclusive industry networking event hosted by Ohio Life Sciences (OLS). This event brings together industry leaders\, innovators\, and stakeholders to explore advancements and opportunities in Ohio’s dynamic life sciences ecosystem.
URL:https://ohiolifesciences.org/event/pathfinders-advancing-ohios-life-sciences-industry/
LOCATION:Toledo Tech Loft\, 336 North Superior Street\, Toledo\, Ohio\, 43604\, United States
CATEGORIES:Industry Information,Networking,OLS Signature
ATTACH;FMTTYPE=image/jpeg:https://ohiolifesciences.org/wp-content/uploads/2025/03/NW-Ohio-Networking_4_23_25-SMALLWEBFINAL.jpg
ORGANIZER;CN="Ohio Life Sciences":MAILTO:ols@ohiolifesciences.org
END:VEVENT
BEGIN:VEVENT
DTSTART;TZID=America/New_York:20250430T113000
DTEND;TZID=America/New_York:20250430T130000
DTSTAMP:20260420T091704
CREATED:20250204T132426Z
LAST-MODIFIED:20250204T132426Z
UID:10000197-1746012600-1746018000@ohiolifesciences.org
SUMMARY:Bioscience Breakthroughs are Saving Lives in Central Ohio
DESCRIPTION:More and more bioscience leaders are landing in Central Ohio\, opening new research and manufacturing facilities that in turn attract more like them to Columbus. Join us as we dissect the complexities\, risk\, and huge rewards of the bioscience business in Central Ohio
URL:https://ohiolifesciences.org/event/bioscience-breakthroughs-are-saving-lives-in-central-ohio/
LOCATION:The Ellis\, 777 North 4th Street\, Columbus\, 43215\, United States
ATTACH;FMTTYPE=image/jpeg:https://ohiolifesciences.org/wp-content/uploads/2025/02/imageedit_5_2861458796.jpg
GEO:39.9790758;-82.9983679
X-APPLE-STRUCTURED-LOCATION;VALUE=URI;X-ADDRESS=The Ellis 777 North 4th Street Columbus 43215 United States;X-APPLE-RADIUS=500;X-TITLE=777 North 4th Street:geo:-82.9983679,39.9790758
END:VEVENT
END:VCALENDAR