BEGIN:VCALENDAR
VERSION:2.0
PRODID:-//Ohio Life Sciences - ECPv6.15.18//NONSGML v1.0//EN
CALSCALE:GREGORIAN
METHOD:PUBLISH
X-ORIGINAL-URL:https://ohiolifesciences.org
X-WR-CALDESC:Events for Ohio Life Sciences
REFRESH-INTERVAL;VALUE=DURATION:PT1H
X-Robots-Tag:noindex
X-PUBLISHED-TTL:PT1H
BEGIN:VTIMEZONE
TZID:America/New_York
BEGIN:DAYLIGHT
TZOFFSETFROM:-0500
TZOFFSETTO:-0400
TZNAME:EDT
DTSTART:20240310T070000
END:DAYLIGHT
BEGIN:STANDARD
TZOFFSETFROM:-0400
TZOFFSETTO:-0500
TZNAME:EST
DTSTART:20241103T060000
END:STANDARD
BEGIN:DAYLIGHT
TZOFFSETFROM:-0500
TZOFFSETTO:-0400
TZNAME:EDT
DTSTART:20250309T070000
END:DAYLIGHT
BEGIN:STANDARD
TZOFFSETFROM:-0400
TZOFFSETTO:-0500
TZNAME:EST
DTSTART:20251102T060000
END:STANDARD
BEGIN:DAYLIGHT
TZOFFSETFROM:-0500
TZOFFSETTO:-0400
TZNAME:EDT
DTSTART:20260308T070000
END:DAYLIGHT
BEGIN:STANDARD
TZOFFSETFROM:-0400
TZOFFSETTO:-0500
TZNAME:EST
DTSTART:20261101T060000
END:STANDARD
END:VTIMEZONE
BEGIN:VEVENT
DTSTART;TZID=America/New_York:20250220T120000
DTEND;TZID=America/New_York:20250220T130000
DTSTAMP:20260420T140013
CREATED:20250106T170213Z
LAST-MODIFIED:20250226T163022Z
UID:10000192-1740052800-1740056400@ohiolifesciences.org
SUMMARY:Non-Dilutive Funding for Life Sciences: G2G's Monthly Reporting Service Webinar
DESCRIPTION:Every third Thursday of the month\, G2G hosts this online event to share non-dilutive funding opportunities for life sciences.
URL:https://ohiolifesciences.org/event/non-dilutive-funding-for-life-sciences-g2gs-monthly-reporting-service-webinar/2025-02-20/
LOCATION:https://ohiolifesciences.org/event/non-dilutive-funding-for-life-sciences-g2gs-monthly-reporting-service-webinar/2025-02-20/
CATEGORIES:Industry Information,Virtual Events & Webinars
ATTACH;FMTTYPE=image/jpeg:https://ohiolifesciences.org/wp-content/uploads/2024/10/imageedit_1_5199233931.jpg
END:VEVENT
BEGIN:VEVENT
DTSTART;TZID=America/New_York:20250225T080000
DTEND;TZID=America/New_York:20250225T130000
DTSTAMP:20260420T140013
CREATED:20250204T131043Z
LAST-MODIFIED:20250204T144007Z
UID:10000196-1740470400-1740488400@ohiolifesciences.org
SUMMARY:Ohio Life Sciences Budget Grassroots Advocacy Day
DESCRIPTION:Join us for a pivotal day of engagement at the Ohio Statehouse as we come together to advocate for Ohio Life Sciences’ budget request and the future of our industry.
URL:https://ohiolifesciences.org/event/ohio-life-sciences-budget-grassroots-advocacy-day/
LOCATION:The Ohio Statehouse\, 1 Capitol Square\, Columbus\, OH\, 43215\, United States
CATEGORIES:Advocacy & Government Affairs,OLS Signature
ATTACH;FMTTYPE=image/jpeg:https://ohiolifesciences.org/wp-content/uploads/2025/02/imageedit_2_5615524590.jpg
GEO:39.9613745;-82.9989103
X-APPLE-STRUCTURED-LOCATION;VALUE=URI;X-ADDRESS=The Ohio Statehouse 1 Capitol Square Columbus OH 43215 United States;X-APPLE-RADIUS=500;X-TITLE=1 Capitol Square:geo:-82.9989103,39.9613745
END:VEVENT
BEGIN:VEVENT
DTSTART;TZID=America/New_York:20250226T160000
DTEND;TZID=America/New_York:20250226T180000
DTSTAMP:20260420T140013
CREATED:20250106T165536Z
LAST-MODIFIED:20250204T143735Z
UID:10000190-1740585600-1740592800@ohiolifesciences.org
SUMMARY:Achieving a Talent Advantage: Strategies to Attract\, Retain and Engage
DESCRIPTION:Join us at LOTH in Cincinnati\, with Dr. Tracy Brower\, VP Workplace Insights with Steelcase\, to learn about the science that guides strategies that really work\, and how you can achieve terrific success within this talent revolution.
URL:https://ohiolifesciences.org/event/achieving-a-talent-advantage-strategies-to-attract-retain-and-engage/
LOCATION:LOTH\, Inc.\, 3574 East Kemper Road\, Cincinnati\, OH\, 45241\, United States
CATEGORIES:OLS Signature
ATTACH;FMTTYPE=image/jpeg:https://ohiolifesciences.org/wp-content/uploads/2025/01/imageedit_2_6289137199.jpg
GEO:39.2835204;-84.4063061
X-APPLE-STRUCTURED-LOCATION;VALUE=URI;X-ADDRESS=LOTH Inc. 3574 East Kemper Road Cincinnati OH 45241 United States;X-APPLE-RADIUS=500;X-TITLE=3574 East Kemper Road:geo:-84.4063061,39.2835204
END:VEVENT
BEGIN:VEVENT
DTSTART;TZID=America/New_York:20250227T160000
DTEND;TZID=America/New_York:20250227T180000
DTSTAMP:20260420T140013
CREATED:20250130T182535Z
LAST-MODIFIED:20250204T144000Z
UID:10000195-1740672000-1740679200@ohiolifesciences.org
SUMMARY:Post-Election Pulse
DESCRIPTION:Join us for an insightful discussion on the latest developments and consequences following the 2024 election.
URL:https://ohiolifesciences.org/event/post-election-pulse/
LOCATION:Nuevo Modern Mexican & Tequila Bar\, 1000 East 9th Street\, Cleveland\, OH\, 44114\, United States
CATEGORIES:Industry Information,OLS Signature
ATTACH;FMTTYPE=image/jpeg:https://ohiolifesciences.org/wp-content/uploads/2025/01/imageedit_2_5702608841.jpg
GEO:41.5139193;-81.6747295
X-APPLE-STRUCTURED-LOCATION;VALUE=URI;X-ADDRESS=Nuevo Modern Mexican & Tequila Bar 1000 East 9th Street Cleveland OH 44114 United States;X-APPLE-RADIUS=500;X-TITLE=1000 East 9th Street:geo:-81.6747295,41.5139193
END:VEVENT
END:VCALENDAR