BEGIN:VCALENDAR
VERSION:2.0
PRODID:-//Ohio Life Sciences - ECPv6.15.18//NONSGML v1.0//EN
CALSCALE:GREGORIAN
METHOD:PUBLISH
X-ORIGINAL-URL:https://ohiolifesciences.org
X-WR-CALDESC:Events for Ohio Life Sciences
REFRESH-INTERVAL;VALUE=DURATION:PT1H
X-Robots-Tag:noindex
X-PUBLISHED-TTL:PT1H
BEGIN:VTIMEZONE
TZID:America/New_York
BEGIN:DAYLIGHT
TZOFFSETFROM:-0500
TZOFFSETTO:-0400
TZNAME:EDT
DTSTART:20230312T070000
END:DAYLIGHT
BEGIN:STANDARD
TZOFFSETFROM:-0400
TZOFFSETTO:-0500
TZNAME:EST
DTSTART:20231105T060000
END:STANDARD
BEGIN:DAYLIGHT
TZOFFSETFROM:-0500
TZOFFSETTO:-0400
TZNAME:EDT
DTSTART:20240310T070000
END:DAYLIGHT
BEGIN:STANDARD
TZOFFSETFROM:-0400
TZOFFSETTO:-0500
TZNAME:EST
DTSTART:20241103T060000
END:STANDARD
BEGIN:DAYLIGHT
TZOFFSETFROM:-0500
TZOFFSETTO:-0400
TZNAME:EDT
DTSTART:20250309T070000
END:DAYLIGHT
BEGIN:STANDARD
TZOFFSETFROM:-0400
TZOFFSETTO:-0500
TZNAME:EST
DTSTART:20251102T060000
END:STANDARD
END:VTIMEZONE
BEGIN:VEVENT
DTSTART;TZID=America/New_York:20240904T170000
DTEND;TZID=America/New_York:20240904T210000
DTSTAMP:20260420T212111
CREATED:20240807T172644Z
LAST-MODIFIED:20240807T172644Z
UID:10000175-1725469200-1725483600@ohiolifesciences.org
SUMMARY:The Ohio Venture Pipeline - Mid-Year Review
DESCRIPTION:Join us at the Ohio Statehouse for the next Ohio Venture Pipeline event! \nCome help us celebrate 170+ Ohio-based successful startups that raised money from investors in the 1st Half of 2024. \nLearn the latest trends from our expert panel including Chris Berry\, CEO of OhioX\, Eddie Pauline\, MBA\, OhioCED\, CEO of Ohio Life Sciences\, and Jeff (J.D.) Davids of SmartMoney Ventures when they dive into the deals\, the themes\, and the people who are moving our community forward.
URL:https://ohiolifesciences.org/event/the-ohio-venture-pipeline-mid-year-review/
LOCATION:The Ohio Statehouse\, 1 Capitol Square\, Columbus\, OH\, 43215\, United States
CATEGORIES:Access to Capital,Networking
ATTACH;FMTTYPE=image/jpeg:https://ohiolifesciences.org/wp-content/uploads/2024/08/VP_Event.jpg
GEO:39.9613745;-82.9989103
X-APPLE-STRUCTURED-LOCATION;VALUE=URI;X-ADDRESS=The Ohio Statehouse 1 Capitol Square Columbus OH 43215 United States;X-APPLE-RADIUS=500;X-TITLE=1 Capitol Square:geo:-82.9989103,39.9613745
END:VEVENT
BEGIN:VEVENT
DTSTART;TZID=America/New_York:20240909T000000
DTEND;TZID=America/New_York:20240911T235959
DTSTAMP:20260420T212111
CREATED:20240623T194105Z
LAST-MODIFIED:20240623T194105Z
UID:10000173-1725840000-1726099199@ohiolifesciences.org
SUMMARY:28th Annual Charles River Biotech Symposium
DESCRIPTION:The Biotechnology-Derived Therapeutics Perspectives on Nonclinical Development symposium will be held September 9-11\, 2024 at The Westin Carlsbad Resort & Spa\, Carlsbad\, CA. Don’t miss our optional workshop on Sunday\, September 8th\, “Is Targeting Now the Magic Bullet for Multi-Modalities?”\, when making your travel plans. \nThe Charles River Biotech Symposium unites drug development professionals in an interactive setting to discuss the nonclinical development of biotherapeutics\, including regulatory issues and innovative approaches to problem solving. The collegial spirit of this meeting creates exceptional opportunities for information sharing and networking. Please join us in beautiful Southern California for another unique and exciting educational opportunity. \nThe registration fee includes daily breakfast and lunch\, as well as a reception on Tuesday evening. Attendees also enjoy a preferred hotel rate. Combined with our assembly of industry-leading experts and the highest level of drug development information and resources available\, the 28th Annual Charles River Biotech Symposium is a great value.
URL:https://ohiolifesciences.org/event/28th-annual-charles-river-biotech-symposium/
LOCATION:The Westin Carlsbad Resort & Spa\, Grand Pacific Drive\, Carlsbad\, California\, 92008\, United States
ATTACH;FMTTYPE=image/jpeg:https://ohiolifesciences.org/wp-content/uploads/2024/06/9f2c2cae3ea44edeb9c68591bab225c9_833d2f1f2f7395b604a86eb06652a6fc.jpg.webp.jpeg
ORGANIZER;CN="Lisa Antolick":MAILTO:lisa.antolick@crl.com
GEO:33.130157;-117.3091101
X-APPLE-STRUCTURED-LOCATION;VALUE=URI;X-ADDRESS=The Westin Carlsbad Resort & Spa Grand Pacific Drive Carlsbad California 92008 United States;X-APPLE-RADIUS=500;X-TITLE=Grand Pacific Drive:geo:-117.3091101,33.130157
END:VEVENT
BEGIN:VEVENT
DTSTART;TZID=America/New_York:20240918T180000
DTEND;TZID=America/New_York:20240918T203000
DTSTAMP:20260420T212111
CREATED:20240820T171024Z
LAST-MODIFIED:20240820T171024Z
UID:10000177-1726682400-1726691400@ohiolifesciences.org
SUMMARY:PDA Midwest Ohio Event
DESCRIPTION:Join PDA Midwest for an evening of networking and industry insights on September 18th in Ohio. Explore Contamination Control Strategies for ATMP manufacturing and tour Forge Biologics’ state-of-the-art facility. Don’t miss the opportunity to connect with industry peers!
URL:https://ohiolifesciences.org/event/pda-midwest-ohio-event/
LOCATION:Forge Biologics\, Gantz Road\, Grove City\, Ohio\, 43123\, United States
CATEGORIES:Industry Information,Networking
ATTACH;FMTTYPE=image/jpeg:https://ohiolifesciences.org/wp-content/uploads/2024/08/PDA_midwest.jpg
GEO:39.8831224;-83.0552704
X-APPLE-STRUCTURED-LOCATION;VALUE=URI;X-ADDRESS=Forge Biologics Gantz Road Grove City Ohio 43123 United States;X-APPLE-RADIUS=500;X-TITLE=Gantz Road:geo:-83.0552704,39.8831224
END:VEVENT
BEGIN:VEVENT
DTSTART;TZID=America/New_York:20240919T120000
DTEND;TZID=America/New_York:20240919T130000
DTSTAMP:20260420T212111
CREATED:20240913T152258Z
LAST-MODIFIED:20240913T152258Z
UID:10000179-1726747200-1726750800@ohiolifesciences.org
SUMMARY:G2G's Monthly Non-Dilutive Funding: GBG Reporting Service Webinar
DESCRIPTION:
URL:https://ohiolifesciences.org/event/g2gs-monthly-non-dilutive-funding-gbg-reporting-service-webinar/
LOCATION:OH
CATEGORIES:Online Event
ATTACH;FMTTYPE=image/jpeg:https://ohiolifesciences.org/wp-content/uploads/2024/09/imageedit_2_8542778987.jpg
END:VEVENT
END:VCALENDAR