BEGIN:VCALENDAR
VERSION:2.0
PRODID:-//Ohio Life Sciences - ECPv6.15.18//NONSGML v1.0//EN
CALSCALE:GREGORIAN
METHOD:PUBLISH
X-ORIGINAL-URL:https://ohiolifesciences.org
X-WR-CALDESC:Events for Ohio Life Sciences
REFRESH-INTERVAL;VALUE=DURATION:PT1H
X-Robots-Tag:noindex
X-PUBLISHED-TTL:PT1H
BEGIN:VTIMEZONE
TZID:America/New_York
BEGIN:DAYLIGHT
TZOFFSETFROM:-0500
TZOFFSETTO:-0400
TZNAME:EDT
DTSTART:20230312T070000
END:DAYLIGHT
BEGIN:STANDARD
TZOFFSETFROM:-0400
TZOFFSETTO:-0500
TZNAME:EST
DTSTART:20231105T060000
END:STANDARD
BEGIN:DAYLIGHT
TZOFFSETFROM:-0500
TZOFFSETTO:-0400
TZNAME:EDT
DTSTART:20240310T070000
END:DAYLIGHT
BEGIN:STANDARD
TZOFFSETFROM:-0400
TZOFFSETTO:-0500
TZNAME:EST
DTSTART:20241103T060000
END:STANDARD
BEGIN:DAYLIGHT
TZOFFSETFROM:-0500
TZOFFSETTO:-0400
TZNAME:EDT
DTSTART:20250309T070000
END:DAYLIGHT
BEGIN:STANDARD
TZOFFSETFROM:-0400
TZOFFSETTO:-0500
TZNAME:EST
DTSTART:20251102T060000
END:STANDARD
END:VTIMEZONE
BEGIN:VEVENT
DTSTART;TZID=America/New_York:20240815T120000
DTEND;TZID=America/New_York:20240815T130000
DTSTAMP:20260420T224809
CREATED:20240726T174512Z
LAST-MODIFIED:20240726T174512Z
UID:10000174-1723723200-1723726800@ohiolifesciences.org
SUMMARY:Top Insights on Athletic Safety and Performance Monitoring
DESCRIPTION:
URL:https://ohiolifesciences.org/event/top-insights-on-athletic-safety-and-performance-monitoring/
LOCATION:https://us06web.zoom.us/webinar/register/WN_fCF3qIS9Ss2T9RGohm2SnA?utm_medium=email&_hsenc=p2ANqtz--A-36cuirVSR5PZCthI4H5dtk8qfgraY4mA4hlnGixjcdfuPeruLno1Nb1tYxQE3yqgmffdoYGRoe9dd7eTwckLXhpAg57RVnwHDhhFbIh34_j1HI&_hsmi=316299146&utm_content=316299146&utm_source=hs_email#/registration
END:VEVENT
BEGIN:VEVENT
DTSTART;TZID=America/New_York:20240815T153000
DTEND;TZID=America/New_York:20240815T183000
DTSTAMP:20260420T224809
CREATED:20240807T210130Z
LAST-MODIFIED:20240807T210130Z
UID:10000176-1723735800-1723746600@ohiolifesciences.org
SUMMARY:Tom and Emily Whitehead Meet and Greet
DESCRIPTION:We’re thrilled to host Emily Whitehead\, the first child treated with CAR T-cell therapy\, who is now celebrating 12 amazing years cancer-free. She will share her personal journey and insights on the mental health aspects of being a cancer survivor.
URL:https://ohiolifesciences.org/event/tom-and-emily-whitehead-meet-and-greet/
LOCATION:1349 West Lane Avenue #suite 1010 Columbus\, OH 43221\, West Lane Avenue\, Columbus\, Ohio\, 43221\, United States
CATEGORIES:Patient Perspectives
ATTACH;FMTTYPE=image/png:https://ohiolifesciences.org/wp-content/uploads/2024/08/Emily_Whitehead_Event.png
ORGANIZER;CN="Ohio Life Sciences":MAILTO:ols@ohiolifesciences.org
GEO:40.0066061;-83.0465449
X-APPLE-STRUCTURED-LOCATION;VALUE=URI;X-ADDRESS=1349 West Lane Avenue #suite 1010 Columbus OH 43221 West Lane Avenue Columbus Ohio 43221 United States;X-APPLE-RADIUS=500;X-TITLE=West Lane Avenue:geo:-83.0465449,40.0066061
END:VEVENT
END:VCALENDAR