BEGIN:VCALENDAR
VERSION:2.0
PRODID:-//Ohio Life Sciences - ECPv6.15.18//NONSGML v1.0//EN
CALSCALE:GREGORIAN
METHOD:PUBLISH
X-WR-CALNAME:Ohio Life Sciences
X-ORIGINAL-URL:https://ohiolifesciences.org
X-WR-CALDESC:Events for Ohio Life Sciences
REFRESH-INTERVAL;VALUE=DURATION:PT1H
X-Robots-Tag:noindex
X-PUBLISHED-TTL:PT1H
BEGIN:VTIMEZONE
TZID:America/New_York
BEGIN:DAYLIGHT
TZOFFSETFROM:-0500
TZOFFSETTO:-0400
TZNAME:EDT
DTSTART:20220313T070000
END:DAYLIGHT
BEGIN:STANDARD
TZOFFSETFROM:-0400
TZOFFSETTO:-0500
TZNAME:EST
DTSTART:20221106T060000
END:STANDARD
BEGIN:DAYLIGHT
TZOFFSETFROM:-0500
TZOFFSETTO:-0400
TZNAME:EDT
DTSTART:20230312T070000
END:DAYLIGHT
BEGIN:STANDARD
TZOFFSETFROM:-0400
TZOFFSETTO:-0500
TZNAME:EST
DTSTART:20231105T060000
END:STANDARD
BEGIN:DAYLIGHT
TZOFFSETFROM:-0500
TZOFFSETTO:-0400
TZNAME:EDT
DTSTART:20240310T070000
END:DAYLIGHT
BEGIN:STANDARD
TZOFFSETFROM:-0400
TZOFFSETTO:-0500
TZNAME:EST
DTSTART:20241103T060000
END:STANDARD
END:VTIMEZONE
BEGIN:VEVENT
DTSTART;TZID=America/New_York:20230907T130000
DTEND;TZID=America/New_York:20230907T170000
DTSTAMP:20260421T143334
CREATED:20230802T115200Z
LAST-MODIFIED:20230802T115200Z
UID:10000153-1694091600-1694106000@ohiolifesciences.org
SUMMARY:Quantitative & Data Career Expo
DESCRIPTION:The Quantitative & Data Career Expo is the premier Ohio State event for students seeking opportunities in the technology\, data\, and analytics sectors. The event is open to all current OSU students and recent graduates and will take place on September 7th from 1 – 5 PM at the Ohio Union.
URL:https://ohiolifesciences.org/event/quantitative-data-career-expo/
LOCATION:Ohio Union\, 1739 N High St\, Columbus\, OH\, 43210\, United States
GEO:39.99772;-83.008575
X-APPLE-STRUCTURED-LOCATION;VALUE=URI;X-ADDRESS=Ohio Union 1739 N High St Columbus OH 43210 United States;X-APPLE-RADIUS=500;X-TITLE=1739 N High St:geo:-83.008575,39.99772
END:VEVENT
BEGIN:VEVENT
DTSTART;TZID=America/New_York:20230914T180000
DTEND;TZID=America/New_York:20230914T210000
DTSTAMP:20260421T143334
CREATED:20230501T192102Z
LAST-MODIFIED:20230501T192102Z
UID:10000137-1694714400-1694725200@ohiolifesciences.org
SUMMARY:PDA Midwest Networking and Sponsor Engagement Event
DESCRIPTION:
URL:https://ohiolifesciences.org/event/pda-midwest-networking-and-sponsor-engagement-event/
LOCATION:Pins Mechanical\, 6558 Riverside Drive.\, Dublin\, OH\, 43017\, United States
CATEGORIES:Networking
ATTACH;FMTTYPE=image/png:https://ohiolifesciences.org/wp-content/uploads/2023/05/2023-9-14-PDA-Midwest-Social-500.png
GEO:40.1013255;-83.1096966
X-APPLE-STRUCTURED-LOCATION;VALUE=URI;X-ADDRESS=Pins Mechanical 6558 Riverside Drive. Dublin OH 43017 United States;X-APPLE-RADIUS=500;X-TITLE=6558 Riverside Drive.:geo:-83.1096966,40.1013255
END:VEVENT
BEGIN:VEVENT
DTSTART;TZID=America/New_York:20230925T140000
DTEND;TZID=America/New_York:20230925T160000
DTSTAMP:20260421T143334
CREATED:20230828T114547Z
LAST-MODIFIED:20230828T114547Z
UID:10000155-1695650400-1695657600@ohiolifesciences.org
SUMMARY:OLS Entrepreneur Workshop Series - Overview of the Development Process
DESCRIPTION:
URL:https://ohiolifesciences.org/event/overview-of-the-development-process/
LOCATION:Online Event
CATEGORIES:Workforce & Careers
ATTACH;FMTTYPE=image/png:https://ohiolifesciences.org/wp-content/uploads/2023/07/OSU-event-image-GSPIRE-600-04.png
ORGANIZER;CN="Ohio Life Sciences":MAILTO:ols@ohiolifesciences.org
GEO:40.4172871;-82.907123
END:VEVENT
END:VCALENDAR