BEGIN:VCALENDAR
VERSION:2.0
PRODID:-//Ohio Life Sciences - ECPv6.15.18//NONSGML v1.0//EN
CALSCALE:GREGORIAN
METHOD:PUBLISH
X-WR-CALNAME:Ohio Life Sciences
X-ORIGINAL-URL:https://ohiolifesciences.org
X-WR-CALDESC:Events for Ohio Life Sciences
REFRESH-INTERVAL;VALUE=DURATION:PT1H
X-Robots-Tag:noindex
X-PUBLISHED-TTL:PT1H
BEGIN:VTIMEZONE
TZID:America/New_York
BEGIN:DAYLIGHT
TZOFFSETFROM:-0500
TZOFFSETTO:-0400
TZNAME:EDT
DTSTART:20210314T070000
END:DAYLIGHT
BEGIN:STANDARD
TZOFFSETFROM:-0400
TZOFFSETTO:-0500
TZNAME:EST
DTSTART:20211107T060000
END:STANDARD
BEGIN:DAYLIGHT
TZOFFSETFROM:-0500
TZOFFSETTO:-0400
TZNAME:EDT
DTSTART:20220313T070000
END:DAYLIGHT
BEGIN:STANDARD
TZOFFSETFROM:-0400
TZOFFSETTO:-0500
TZNAME:EST
DTSTART:20221106T060000
END:STANDARD
BEGIN:DAYLIGHT
TZOFFSETFROM:-0500
TZOFFSETTO:-0400
TZNAME:EDT
DTSTART:20230312T070000
END:DAYLIGHT
BEGIN:STANDARD
TZOFFSETFROM:-0400
TZOFFSETTO:-0500
TZNAME:EST
DTSTART:20231105T060000
END:STANDARD
END:VTIMEZONE
BEGIN:VEVENT
DTSTART;TZID=America/New_York:20220531T000000
DTEND;TZID=America/New_York:20220602T235959
DTSTAMP:20260422T132634
CREATED:20211110T202848Z
LAST-MODIFIED:20211110T202848Z
UID:10000012-1653955200-1654214399@ohiolifesciences.org
SUMMARY:LE Healthcare Capital Markets & Innovation Summit
DESCRIPTION:
URL:https://ohiolifesciences.org/event/le-healthcare-capital-markets-innovation-summit-2/
LOCATION:Renaissance Columbus Hotel\, 50 North Third Street\, Columbus\, OH\, 43215\, United States
CATEGORIES:Access to Capital,Business Development & Entrepreneurs,Networking,Professional Services
GEO:39.9636043;-82.9976818
X-APPLE-STRUCTURED-LOCATION;VALUE=URI;X-ADDRESS=Renaissance Columbus Hotel 50 North Third Street Columbus OH 43215 United States;X-APPLE-RADIUS=500;X-TITLE=50 North Third Street:geo:-82.9976818,39.9636043
END:VEVENT
BEGIN:VEVENT
DTSTART;TZID=America/New_York:20220609T090000
DTEND;TZID=America/New_York:20220609T160000
DTSTAMP:20260422T132634
CREATED:20220602T175309Z
LAST-MODIFIED:20220602T175309Z
UID:10000063-1654765200-1654790400@ohiolifesciences.org
SUMMARY:Educate\, Innovate…Inspire: Professional Development
DESCRIPTION:
URL:https://ohiolifesciences.org/event/educate-innovateinspire-professional-development/
LOCATION:BMI Federal Credit Union\, 6165 Emerald Parkway\, Dublin\, OH\, 43016\, United States
CATEGORIES:Education & Training
ORGANIZER;CN="The Ohio Academy of Science":MAILTO:info@ohiosci.org
GEO:40.0885111;-83.1442395
X-APPLE-STRUCTURED-LOCATION;VALUE=URI;X-ADDRESS=BMI Federal Credit Union 6165 Emerald Parkway Dublin OH 43016 United States;X-APPLE-RADIUS=500;X-TITLE=6165 Emerald Parkway:geo:-83.1442395,40.0885111
END:VEVENT
BEGIN:VEVENT
DTSTART;TZID=America/New_York:20220613T000000
DTEND;TZID=America/New_York:20220616T235959
DTSTAMP:20260422T132634
CREATED:20211004T154524Z
LAST-MODIFIED:20211004T154524Z
UID:10000007-1655078400-1655423999@ohiolifesciences.org
SUMMARY:BIO International Convention 2022
DESCRIPTION:
URL:https://ohiolifesciences.org/event/bio-international-convention-2022/
LOCATION:San Diego Convention Center\, San Diego\, CA\, United States
CATEGORIES:Advocacy & Government Affairs,Business Development & Entrepreneurs,Medical Device & Equipment,Networking,Pharmaceuticals & Therapeutics,Startups,Trade Shows
ORGANIZER;CN="BIO":MAILTO:info@bio.org
GEO:32.7063296;-117.1618413
END:VEVENT
BEGIN:VEVENT
DTSTART;TZID=America/New_York:20220615T000000
DTEND;TZID=America/New_York:20220615T235959
DTSTAMP:20260422T132634
CREATED:20220331T211530Z
LAST-MODIFIED:20220331T211530Z
UID:10000053-1655251200-1655337599@ohiolifesciences.org
SUMMARY:Medtech Startup Symposium
DESCRIPTION:
URL:https://ohiolifesciences.org/event/medtech-startup-symposium-2/
LOCATION:Rev1 Ventures\, 1275 Kinnear Road\, Columbus\, OH\, 43212\, United States
CATEGORIES:Medical Device & Equipment,Networking,Startups
GEO:39.9973393;-83.0423711
X-APPLE-STRUCTURED-LOCATION;VALUE=URI;X-ADDRESS=Rev1 Ventures 1275 Kinnear Road Columbus OH 43212 United States;X-APPLE-RADIUS=500;X-TITLE=1275 Kinnear Road:geo:-83.0423711,39.9973393
END:VEVENT
BEGIN:VEVENT
DTSTART;TZID=America/New_York:20220615T110000
DTEND;TZID=America/New_York:20220615T130000
DTSTAMP:20260422T132634
CREATED:20220510T180343Z
LAST-MODIFIED:20220510T180343Z
UID:10000061-1655290800-1655298000@ohiolifesciences.org
SUMMARY:Engineering Graduate Student & Postdoc Industry Recruitment Event (E-GSPIRE) [Virtual]
DESCRIPTION:
URL:https://ohiolifesciences.org/event/engineering-graduate-student-postdoc-industry-recruitment-event-e-gspire-virtual/
LOCATION:Online Event
CATEGORIES:Education & Training
GEO:40.4172871;-82.907123
END:VEVENT
BEGIN:VEVENT
DTSTART;TZID=America/New_York:20220622T140000
DTEND;TZID=America/New_York:20220622T150000
DTSTAMP:20260422T132634
CREATED:20220607T205040Z
LAST-MODIFIED:20220607T205040Z
UID:10000064-1655906400-1655910000@ohiolifesciences.org
SUMMARY:Building Great Teams with Stock Plans
DESCRIPTION:
URL:https://ohiolifesciences.org/event/building-great-teams-with-stock-plans/
LOCATION:Online Event
CATEGORIES:Online Event,Professional Services
GEO:40.4172871;-82.907123
END:VEVENT
BEGIN:VEVENT
DTSTART;TZID=America/New_York:20220623T120000
DTEND;TZID=America/New_York:20220623T130000
DTSTAMP:20260422T132634
CREATED:20220621T185505Z
LAST-MODIFIED:20220621T185505Z
UID:10000067-1655985600-1655989200@ohiolifesciences.org
SUMMARY:Navigating Military Medical Conference\, DoD & Funding Opportunities
DESCRIPTION:
URL:https://ohiolifesciences.org/event/navigating-military-medical-conference-dod-funding-opportunities/
LOCATION:Online Event
CATEGORIES:Access to Capital,Advocacy & Government Affairs,Online Event
GEO:40.4172871;-82.907123
END:VEVENT
BEGIN:VEVENT
DTSTART;TZID=America/New_York:20220623T160000
DTEND;TZID=America/New_York:20220623T170000
DTSTAMP:20260422T132634
CREATED:20220621T185910Z
LAST-MODIFIED:20220621T185910Z
UID:10000068-1656000000-1656003600@ohiolifesciences.org
SUMMARY:Virtual Medtech Happy Hour: Preparing for the Valley of Death
DESCRIPTION:
URL:https://ohiolifesciences.org/event/virtual-medtech-happy-hour-preparing-for-the-valley-of-death/
LOCATION:Online Event
CATEGORIES:Business Development & Entrepreneurs,Medical Device & Equipment,Networking,Online Event
GEO:40.4172871;-82.907123
END:VEVENT
BEGIN:VEVENT
DTSTART;TZID=America/New_York:20220623T160000
DTEND;TZID=America/New_York:20220623T180000
DTSTAMP:20260422T132634
CREATED:20220504T042045Z
LAST-MODIFIED:20220504T042045Z
UID:10000058-1656000000-1656007200@ohiolifesciences.org
SUMMARY:Ohio Life Sciences Networking Social hosted by BioOhio & AtriCure
DESCRIPTION:
URL:https://ohiolifesciences.org/event/ohio-life-sciences-networking-social-hosted-by-bioohio-atricure/
LOCATION:AtriCure Corporate Headquarters\, 7555 Innovation Way\, Mason\, OH\, 45040\, United States
CATEGORIES:Medical Device & Equipment,Networking
ORGANIZER;CN="BioOhio":MAILTO:bioohio@bioohio.com
GEO:39.3278986;-84.2900084
X-APPLE-STRUCTURED-LOCATION;VALUE=URI;X-ADDRESS=AtriCure Corporate Headquarters 7555 Innovation Way Mason OH 45040 United States;X-APPLE-RADIUS=500;X-TITLE=7555 Innovation Way:geo:-84.2900084,39.3278986
END:VEVENT
BEGIN:VEVENT
DTSTART;TZID=America/New_York:20220629T160000
DTEND;TZID=America/New_York:20220629T180000
DTSTAMP:20260422T132634
CREATED:20220531T211436Z
LAST-MODIFIED:20220531T211436Z
UID:10000062-1656518400-1656525600@ohiolifesciences.org
SUMMARY:Ohio Life Sciences Networking Social in Cleveland
DESCRIPTION:
URL:https://ohiolifesciences.org/event/ohio-life-sciences-networking-social-in-cleveland/
LOCATION:Saucy Brew\, Cleveland\, OH\, United States
CATEGORIES:Agricultural Biotechnology,Business Development & Entrepreneurs,Industry Information,Medical Device & Equipment,Networking,Pharmaceuticals & Therapeutics,Research & Development,Startups
ORGANIZER;CN="BioOhio":MAILTO:bioohio@bioohio.com
GEO:41.49932;-81.6943605
END:VEVENT
BEGIN:VEVENT
DTSTART;TZID=America/New_York:20220630T100000
DTEND;TZID=America/New_York:20220630T110000
DTSTAMP:20260422T132634
CREATED:20220621T182429Z
LAST-MODIFIED:20220621T182429Z
UID:10000066-1656583200-1656586800@ohiolifesciences.org
SUMMARY:ISO 14155:2020 - What Every Clinical Professional Should Know\, presented by NAMSA
DESCRIPTION:
URL:https://ohiolifesciences.org/event/iso-141552020-what-every-clinical-professional-should-know-presented-by-namsa/
LOCATION:Online Event
CATEGORIES:Online Event,Regulatory & Reimbursement
GEO:40.4172871;-82.907123
END:VEVENT
BEGIN:VEVENT
DTSTART;TZID=America/New_York:20220630T133000
DTEND;TZID=America/New_York:20220630T153000
DTSTAMP:20260422T132634
CREATED:20220510T174245Z
LAST-MODIFIED:20220510T174245Z
UID:10000060-1656595800-1656603000@ohiolifesciences.org
SUMMARY:Engineering Graduate Student & Postdoc Industry Recruitment Event (E-GSPIRE)
DESCRIPTION:
URL:https://ohiolifesciences.org/event/engineering-graduate-student-postdoc-industry-recruitment-event-e-gspire/
LOCATION:The Ohio State University\, Columbus\, OH\, United States
CATEGORIES:Education & Training,Workforce & Careers
GEO:39.99772;-83.008575
END:VEVENT
END:VCALENDAR