BEGIN:VCALENDAR
VERSION:2.0
PRODID:-//Ohio Life Sciences - ECPv6.15.18//NONSGML v1.0//EN
CALSCALE:GREGORIAN
METHOD:PUBLISH
X-ORIGINAL-URL:https://ohiolifesciences.org
X-WR-CALDESC:Events for Ohio Life Sciences
REFRESH-INTERVAL;VALUE=DURATION:PT1H
X-Robots-Tag:noindex
X-PUBLISHED-TTL:PT1H
BEGIN:VTIMEZONE
TZID:America/New_York
BEGIN:DAYLIGHT
TZOFFSETFROM:-0500
TZOFFSETTO:-0400
TZNAME:EDT
DTSTART:20210314T070000
END:DAYLIGHT
BEGIN:STANDARD
TZOFFSETFROM:-0400
TZOFFSETTO:-0500
TZNAME:EST
DTSTART:20211107T060000
END:STANDARD
BEGIN:DAYLIGHT
TZOFFSETFROM:-0500
TZOFFSETTO:-0400
TZNAME:EDT
DTSTART:20220313T070000
END:DAYLIGHT
BEGIN:STANDARD
TZOFFSETFROM:-0400
TZOFFSETTO:-0500
TZNAME:EST
DTSTART:20221106T060000
END:STANDARD
BEGIN:DAYLIGHT
TZOFFSETFROM:-0500
TZOFFSETTO:-0400
TZNAME:EDT
DTSTART:20230312T070000
END:DAYLIGHT
BEGIN:STANDARD
TZOFFSETFROM:-0400
TZOFFSETTO:-0500
TZNAME:EST
DTSTART:20231105T060000
END:STANDARD
END:VTIMEZONE
BEGIN:VEVENT
DTSTART;TZID=America/New_York:20220504T000000
DTEND;TZID=America/New_York:20220506T235959
DTSTAMP:20260422T144901
CREATED:20220302T185801Z
LAST-MODIFIED:20220302T185801Z
UID:10000040-1651622400-1651881599@ohiolifesciences.org
SUMMARY:MedCon Conference 2022
DESCRIPTION:
URL:https://ohiolifesciences.org/event/medcon-conference-2022/
LOCATION:Online Event
CATEGORIES:Business Development & Entrepreneurs,Medical Device & Equipment,Online Event,Professional Services,Regulatory & Reimbursement,Research & Development,Startups
GEO:40.4172871;-82.907123
END:VEVENT
BEGIN:VEVENT
DTSTART;TZID=America/New_York:20220505T160000
DTEND;TZID=America/New_York:20220505T171500
DTSTAMP:20260422T144901
CREATED:20220418T183640Z
LAST-MODIFIED:20220418T183640Z
UID:10000056-1651766400-1651770900@ohiolifesciences.org
SUMMARY:Virtual Medtech Happy Hour
DESCRIPTION:
URL:https://ohiolifesciences.org/event/virtual-medtech-happy-hour/
LOCATION:Online Event
CATEGORIES:Business Development & Entrepreneurs,Medical Device & Equipment,Networking,Online Event,Startups
GEO:40.4172871;-82.907123
END:VEVENT
BEGIN:VEVENT
DTSTART;TZID=America/New_York:20220511T000000
DTEND;TZID=America/New_York:20220511T235959
DTSTAMP:20260422T144901
CREATED:20220318T153134Z
LAST-MODIFIED:20220318T153134Z
UID:10000045-1652227200-1652313599@ohiolifesciences.org
SUMMARY:14th Annual FDA/AdvaMed Medical Devices and Diagnostics Statistics Issues Conference
DESCRIPTION:
URL:https://ohiolifesciences.org/event/14th-annual-fda-advamed-medical-devices-and-diagnostics-statistics-issues-conference/
LOCATION:Online Event
CATEGORIES:Advocacy & Government Affairs,Medical Device & Equipment,Online Event,Professional Services,Regulatory & Reimbursement,Research & Development,Startups
ORGANIZER;CN="AdvaMed":MAILTO:info@advamed.org
GEO:40.4172871;-82.907123
END:VEVENT
BEGIN:VEVENT
DTSTART;TZID=America/New_York:20220512T000000
DTEND;TZID=America/New_York:20220512T235959
DTSTAMP:20260422T144901
CREATED:20220314T181556Z
LAST-MODIFIED:20220314T181556Z
UID:10000042-1652313600-1652399999@ohiolifesciences.org
SUMMARY:The Ohio CEO Summit\, presented by the Ohio Business Roundtable
DESCRIPTION:
URL:https://ohiolifesciences.org/event/the-ceo-summit-presented-by-the-ohio-business-roundtable/
LOCATION:Columbus\, OH\, Columbus\, OH\, United States
CATEGORIES:Advocacy & Government Affairs,Business Development & Entrepreneurs,Professional Services,Workforce & Careers
END:VEVENT
BEGIN:VEVENT
DTSTART;TZID=America/New_York:20220518T160000
DTEND;TZID=America/New_York:20220518T190000
DTSTAMP:20260422T144901
CREATED:20220322T142853Z
LAST-MODIFIED:20220322T142853Z
UID:10000049-1652889600-1652900400@ohiolifesciences.org
SUMMARY:Building the Future: Ohio's Commitment to Cell & Gene Therapy
DESCRIPTION:
URL:https://ohiolifesciences.org/event/building-the-future-ohios-commitment-to-cell-gene-therapy/
LOCATION:The Athletic Club of Columbus\, OH\, United States
CATEGORIES:Pharmaceuticals & Therapeutics,Research & Development
GEO:40.4172871;-82.907123
END:VEVENT
BEGIN:VEVENT
DTSTART;TZID=America/New_York:20220525T000000
DTEND;TZID=America/New_York:20220526T235959
DTSTAMP:20260422T144901
CREATED:20220418T191031Z
LAST-MODIFIED:20220418T191031Z
UID:10000057-1653436800-1653609599@ohiolifesciences.org
SUMMARY:2022 Harrington Discovery Institute Virtual Scientific Symposium
DESCRIPTION:
URL:https://ohiolifesciences.org/event/2022-harrington-discovery-institute-virtual-scientific-symposium/
LOCATION:Online Event
CATEGORIES:Education & Training,Healthcare,Online Event,Pharmaceuticals & Therapeutics,Research & Development,Startups
GEO:40.4172871;-82.907123
END:VEVENT
BEGIN:VEVENT
DTSTART;TZID=America/New_York:20220526T100000
DTEND;TZID=America/New_York:20220526T110000
DTSTAMP:20260422T144901
CREATED:20220510T142707Z
LAST-MODIFIED:20220510T142707Z
UID:10000059-1653559200-1653562800@ohiolifesciences.org
SUMMARY:The Basics of IVDR Clinical Studies\, a NAMSA webinar
DESCRIPTION:
URL:https://ohiolifesciences.org/event/the-basics-of-ivdr-clinical-studies-a-namsa-webinar/
LOCATION:Online Event
CATEGORIES:Medical Device & Equipment,Online Event,Research & Development
GEO:40.4172871;-82.907123
END:VEVENT
BEGIN:VEVENT
DTSTART;TZID=America/New_York:20220531T000000
DTEND;TZID=America/New_York:20220602T235959
DTSTAMP:20260422T144901
CREATED:20211110T202848Z
LAST-MODIFIED:20211110T202848Z
UID:10000012-1653955200-1654214399@ohiolifesciences.org
SUMMARY:LE Healthcare Capital Markets & Innovation Summit
DESCRIPTION:
URL:https://ohiolifesciences.org/event/le-healthcare-capital-markets-innovation-summit-2/
LOCATION:Renaissance Columbus Hotel\, 50 North Third Street\, Columbus\, OH\, 43215\, United States
CATEGORIES:Access to Capital,Business Development & Entrepreneurs,Networking,Professional Services
GEO:39.9636043;-82.9976818
X-APPLE-STRUCTURED-LOCATION;VALUE=URI;X-ADDRESS=Renaissance Columbus Hotel 50 North Third Street Columbus OH 43215 United States;X-APPLE-RADIUS=500;X-TITLE=50 North Third Street:geo:-82.9976818,39.9636043
END:VEVENT
END:VCALENDAR