BEGIN:VCALENDAR
VERSION:2.0
PRODID:-//Ohio Life Sciences - ECPv6.15.18//NONSGML v1.0//EN
CALSCALE:GREGORIAN
METHOD:PUBLISH
X-ORIGINAL-URL:https://ohiolifesciences.org
X-WR-CALDESC:Events for Ohio Life Sciences
REFRESH-INTERVAL;VALUE=DURATION:PT1H
X-Robots-Tag:noindex
X-PUBLISHED-TTL:PT1H
BEGIN:VTIMEZONE
TZID:America/New_York
BEGIN:DAYLIGHT
TZOFFSETFROM:-0500
TZOFFSETTO:-0400
TZNAME:EDT
DTSTART:20210314T070000
END:DAYLIGHT
BEGIN:STANDARD
TZOFFSETFROM:-0400
TZOFFSETTO:-0500
TZNAME:EST
DTSTART:20211107T060000
END:STANDARD
BEGIN:DAYLIGHT
TZOFFSETFROM:-0500
TZOFFSETTO:-0400
TZNAME:EDT
DTSTART:20220313T070000
END:DAYLIGHT
BEGIN:STANDARD
TZOFFSETFROM:-0400
TZOFFSETTO:-0500
TZNAME:EST
DTSTART:20221106T060000
END:STANDARD
BEGIN:DAYLIGHT
TZOFFSETFROM:-0500
TZOFFSETTO:-0400
TZNAME:EDT
DTSTART:20230312T070000
END:DAYLIGHT
BEGIN:STANDARD
TZOFFSETFROM:-0400
TZOFFSETTO:-0500
TZNAME:EST
DTSTART:20231105T060000
END:STANDARD
END:VTIMEZONE
BEGIN:VEVENT
DTSTART;TZID=America/New_York:20220214T140000
DTEND;TZID=America/New_York:20220214T150000
DTSTAMP:20260422T183036
CREATED:20220208T223047Z
LAST-MODIFIED:20220208T223047Z
UID:10000028-1644847200-1644850800@ohiolifesciences.org
SUMMARY:Ohio Budget Process\, presented by G2G
DESCRIPTION:
URL:https://ohiolifesciences.org/event/ohio-budget-process-presented-by-g2g/
LOCATION:Online Event
CATEGORIES:Advocacy & Government Affairs
GEO:40.4172871;-82.907123
END:VEVENT
BEGIN:VEVENT
DTSTART;TZID=America/New_York:20220215T120000
DTEND;TZID=America/New_York:20220215T130000
DTSTAMP:20260422T183036
CREATED:20220209T183805Z
LAST-MODIFIED:20220209T183805Z
UID:10000030-1644926400-1644930000@ohiolifesciences.org
SUMMARY:Innovative Therapies for Macular Degeneration\, an OSU CCTS Inventor Showcase
DESCRIPTION:
URL:https://ohiolifesciences.org/event/innovative-therapies-for-macular-degeneration-an-osu-ccts-inventor-showcase/
LOCATION:Online Event
CATEGORIES:Education & Training,Healthcare,Online Event,Pharmaceuticals & Therapeutics,Research & Development
ORGANIZER;CN="The Ohio State University Center for Clinical and Translational Science (CCTS)":MAILTO:Tanya.Mathew@osumc.edu
GEO:40.4172871;-82.907123
END:VEVENT
BEGIN:VEVENT
DTSTART;TZID=America/New_York:20220217T140000
DTEND;TZID=America/New_York:20220217T163000
DTSTAMP:20260422T183036
CREATED:20220209T204004Z
LAST-MODIFIED:20220209T204004Z
UID:10000032-1645106400-1645115400@ohiolifesciences.org
SUMMARY:2022 Black Innovation and Entrepreneurship program\, part one: Defining tomorrow
DESCRIPTION:
URL:https://ohiolifesciences.org/event/2022-black-innovation-and-entrepreneurship-program-part-one-defining-tomorrow/
LOCATION:Online Event
CATEGORIES:Advocacy & Government Affairs,Business Development & Entrepreneurs,Online Event,Professional Services
GEO:40.4172871;-82.907123
END:VEVENT
BEGIN:VEVENT
DTSTART;TZID=America/New_York:20220218T000000
DTEND;TZID=America/New_York:20220219T235959
DTSTAMP:20260422T183036
CREATED:20210818T190454Z
LAST-MODIFIED:20210818T190454Z
UID:10000006-1645142400-1645315199@ohiolifesciences.org
SUMMARY:Engineering in Healthcare: Industry and Research Symposium (EHIRS)
DESCRIPTION:This event is presented by The Biomedical Engineering Society at Ohio State\, a BioOhio member. EHIRS is a two-day\, hybrid seminar that combines academic research and industry development to allow for a unique networking experience between students and companies. At EHIRS 2022\, you will get access to a student pool from over 10 other midwestern BMES chapters\, numerous unique networking opportunities with students and renowned researchers\, and an industry panel featuring industry leaders. \nWe are currently accepting company interest in our networking event and our industry panel. To sign up for the event\, please visit our website and submit an interest form. We will open attendee registration later this year. EHIRS will be held as a hybrid (virutal+live) event. \nClick here for more information
URL:https://ohiolifesciences.org/event/engineering-in-healthcare-industry-and-research-symposium-ehirs/
LOCATION:Ohio State Univeristy Biomedical Research Tower\, 460 West 12th Ave.\, Columbus\, OH\, 43210\, United States
CATEGORIES:Business Development & Entrepreneurs,Education & Training,Networking,Research & Development
GEO:39.9960915;-83.0196202
X-APPLE-STRUCTURED-LOCATION;VALUE=URI;X-ADDRESS=Ohio State Univeristy Biomedical Research Tower 460 West 12th Ave. Columbus OH 43210 United States;X-APPLE-RADIUS=500;X-TITLE=460 West 12th Ave.:geo:-83.0196202,39.9960915
END:VEVENT
BEGIN:VEVENT
DTSTART;TZID=America/New_York:20220218T100000
DTEND;TZID=America/New_York:20220218T103000
DTSTAMP:20260422T183036
CREATED:20220209T184053Z
LAST-MODIFIED:20220209T184053Z
UID:10000031-1645178400-1645180200@ohiolifesciences.org
SUMMARY:Non-Dilutive Funding: Monthly GBG Reporting Service Webinars
DESCRIPTION:
URL:https://ohiolifesciences.org/event/non-dilutive-funding-monthly-gbg-reporting-service-webinars/
LOCATION:Online Event
CATEGORIES:Access to Capital,Advocacy & Government Affairs,Online Event
GEO:40.4172871;-82.907123
END:VEVENT
BEGIN:VEVENT
DTSTART;TZID=America/New_York:20220218T140000
DTEND;TZID=America/New_York:20220218T180000
DTSTAMP:20260422T183036
CREATED:20211115T182848Z
LAST-MODIFIED:20211115T182848Z
UID:10000013-1645192800-1645207200@ohiolifesciences.org
SUMMARY:Miami University Spring 2022 Career and Internship Fairs\, Health and Science (Virtual)
DESCRIPTION:
URL:https://ohiolifesciences.org/event/miami-university-spring-2022-career-and-internship-fairs-health-and-science-virtual/
LOCATION:Online Event
CATEGORIES:Education & Training,Online Event,Professional Services,Workforce & Careers
GEO:40.4172871;-82.907123
END:VEVENT
BEGIN:VEVENT
DTSTART;TZID=America/New_York:20220222T130000
DTEND;TZID=America/New_York:20220222T140000
DTSTAMP:20260422T183036
CREATED:20220209T183117Z
LAST-MODIFIED:20220209T183117Z
UID:10000029-1645534800-1645538400@ohiolifesciences.org
SUMMARY:Focused Ultrasound Therapy: Improving Patient Care and Lowering Costs
DESCRIPTION:
URL:https://ohiolifesciences.org/event/focused-ultrasound-therapy-improving-patient-care-and-lowering-costs/
LOCATION:Online Event
CATEGORIES:Advocacy & Government Affairs,Healthcare,Medical Device & Equipment,Online Event,Research & Development
GEO:40.4172871;-82.907123
END:VEVENT
BEGIN:VEVENT
DTSTART;TZID=America/New_York:20220222T150000
DTEND;TZID=America/New_York:20220222T160000
DTSTAMP:20260422T183036
CREATED:20220211T161733Z
LAST-MODIFIED:20220211T161733Z
UID:10000036-1645542000-1645545600@ohiolifesciences.org
SUMMARY:COVID-19 in the US: One Step Beyond - How recent state and federal actions will impact business moving forward
DESCRIPTION:
URL:https://ohiolifesciences.org/event/covid-19-in-the-us-one-step-beyond-how-recent-state-and-federal-actions-will-impact-business-moving-forward/
LOCATION:Online Event
CATEGORIES:COVID-19 Informational Event,Professional Services
GEO:40.4172871;-82.907123
END:VEVENT
BEGIN:VEVENT
DTSTART;TZID=America/New_York:20220223T180000
DTEND;TZID=America/New_York:20220223T200000
DTSTAMP:20260422T183036
CREATED:20211203T151326Z
LAST-MODIFIED:20211203T151326Z
UID:10000017-1645639200-1645646400@ohiolifesciences.org
SUMMARY:Miami University Society of Women Engineers Networking Dinner
DESCRIPTION:
URL:https://ohiolifesciences.org/event/miami-university-society-of-women-engineers-networking-dinner/
LOCATION:Oxford\, OH\, United States
CATEGORIES:Business Development & Entrepreneurs,Diversity & Gender Equality,Networking
GEO:37.09024;-95.712891
END:VEVENT
BEGIN:VEVENT
DTSTART;TZID=America/New_York:20220224T150000
DTEND;TZID=America/New_York:20220224T163000
DTSTAMP:20260422T183036
CREATED:20220209T204136Z
LAST-MODIFIED:20220209T204136Z
UID:10000033-1645714800-1645720200@ohiolifesciences.org
SUMMARY:2022 Black Innovation and Entrepreneurship program\, part two: Invest in ideas
DESCRIPTION:
URL:https://ohiolifesciences.org/event/2022-black-innovation-and-entrepreneurship-program-part-two-invest-in-ideas/
LOCATION:Online Event
CATEGORIES:Advocacy & Government Affairs,Business Development & Entrepreneurs,Online Event,Professional Services
GEO:40.4172871;-82.907123
END:VEVENT
END:VCALENDAR