BEGIN:VCALENDAR
VERSION:2.0
PRODID:-//Ohio Life Sciences - ECPv6.15.18//NONSGML v1.0//EN
CALSCALE:GREGORIAN
METHOD:PUBLISH
X-ORIGINAL-URL:https://ohiolifesciences.org
X-WR-CALDESC:Events for Ohio Life Sciences
REFRESH-INTERVAL;VALUE=DURATION:PT1H
X-Robots-Tag:noindex
X-PUBLISHED-TTL:PT1H
BEGIN:VTIMEZONE
TZID:America/New_York
BEGIN:DAYLIGHT
TZOFFSETFROM:-0500
TZOFFSETTO:-0400
TZNAME:EDT
DTSTART:20210314T070000
END:DAYLIGHT
BEGIN:STANDARD
TZOFFSETFROM:-0400
TZOFFSETTO:-0500
TZNAME:EST
DTSTART:20211107T060000
END:STANDARD
BEGIN:DAYLIGHT
TZOFFSETFROM:-0500
TZOFFSETTO:-0400
TZNAME:EDT
DTSTART:20220313T070000
END:DAYLIGHT
BEGIN:STANDARD
TZOFFSETFROM:-0400
TZOFFSETTO:-0500
TZNAME:EST
DTSTART:20221106T060000
END:STANDARD
BEGIN:DAYLIGHT
TZOFFSETFROM:-0500
TZOFFSETTO:-0400
TZNAME:EDT
DTSTART:20230312T070000
END:DAYLIGHT
BEGIN:STANDARD
TZOFFSETFROM:-0400
TZOFFSETTO:-0500
TZNAME:EST
DTSTART:20231105T060000
END:STANDARD
END:VTIMEZONE
BEGIN:VEVENT
DTSTART;TZID=America/New_York:20221107T000000
DTEND;TZID=America/New_York:20221109T235959
DTSTAMP:20260423T134513
CREATED:20220830T200206Z
LAST-MODIFIED:20220830T200206Z
UID:10000097-1667779200-1668038399@ohiolifesciences.org
SUMMARY:Combination Products Summit 2022
DESCRIPTION:
URL:https://ohiolifesciences.org/event/combination-products-summit-2022/
LOCATION:Sonesta Columbus\, 33 East Nationwide Blvd.\, Columbus\, OH\, United States
CATEGORIES:Healthcare,Medical Device & Equipment,Pharmaceuticals & Therapeutics,Regulatory & Reimbursement,Research & Development,Technology
GEO:39.9687391;-83.000421
X-APPLE-STRUCTURED-LOCATION;VALUE=URI;X-ADDRESS=Sonesta Columbus 33 East Nationwide Blvd. Columbus OH United States;X-APPLE-RADIUS=500;X-TITLE=33 East Nationwide Blvd.:geo:-83.000421,39.9687391
END:VEVENT
BEGIN:VEVENT
DTSTART;TZID=America/New_York:20221111T000000
DTEND;TZID=America/New_York:20221111T235959
DTSTAMP:20260423T134513
CREATED:20220708T173030Z
LAST-MODIFIED:20220708T173030Z
UID:10000077-1668124800-1668211199@ohiolifesciences.org
SUMMARY:The Advancing Healthcare Innovation Summit (AHIS2022)
DESCRIPTION:
URL:https://ohiolifesciences.org/event/the-advancing-healthcare-innovation-summit-ahis2022/
LOCATION:Hyatt Regency Cincinnati\, Cincinnati\, OH\, United States
CATEGORIES:Health & Life Science IT,Healthcare,Medical Device & Equipment,Networking,Pharmaceuticals & Therapeutics,Startups,Technology
GEO:39.1031182;-84.5120196
END:VEVENT
BEGIN:VEVENT
DTSTART;TZID=America/New_York:20221115T000000
DTEND;TZID=America/New_York:20221116T235959
DTSTAMP:20260423T134513
CREATED:20220830T195927Z
LAST-MODIFIED:20220830T195927Z
UID:10000096-1668470400-1668643199@ohiolifesciences.org
SUMMARY:PharmaLink Conference 2022
DESCRIPTION:
URL:https://ohiolifesciences.org/event/pharmalink-conference-2022/
LOCATION:Online Event
CATEGORIES:Healthcare,Online Event,Pharmaceuticals & Therapeutics,Research & Development,Technology
GEO:40.4172871;-82.907123
END:VEVENT
END:VCALENDAR