BEGIN:VCALENDAR
VERSION:2.0
PRODID:-//Ohio Life Sciences - ECPv6.15.18//NONSGML v1.0//EN
CALSCALE:GREGORIAN
METHOD:PUBLISH
X-ORIGINAL-URL:https://ohiolifesciences.org
X-WR-CALDESC:Events for Ohio Life Sciences
REFRESH-INTERVAL;VALUE=DURATION:PT1H
X-Robots-Tag:noindex
X-PUBLISHED-TTL:PT1H
BEGIN:VTIMEZONE
TZID:America/New_York
BEGIN:DAYLIGHT
TZOFFSETFROM:-0500
TZOFFSETTO:-0400
TZNAME:EDT
DTSTART:20210314T070000
END:DAYLIGHT
BEGIN:STANDARD
TZOFFSETFROM:-0400
TZOFFSETTO:-0500
TZNAME:EST
DTSTART:20211107T060000
END:STANDARD
BEGIN:DAYLIGHT
TZOFFSETFROM:-0500
TZOFFSETTO:-0400
TZNAME:EDT
DTSTART:20220313T070000
END:DAYLIGHT
BEGIN:STANDARD
TZOFFSETFROM:-0400
TZOFFSETTO:-0500
TZNAME:EST
DTSTART:20221106T060000
END:STANDARD
BEGIN:DAYLIGHT
TZOFFSETFROM:-0500
TZOFFSETTO:-0400
TZNAME:EDT
DTSTART:20230312T070000
END:DAYLIGHT
BEGIN:STANDARD
TZOFFSETFROM:-0400
TZOFFSETTO:-0500
TZNAME:EST
DTSTART:20231105T060000
END:STANDARD
END:VTIMEZONE
BEGIN:VEVENT
DTSTART;TZID=America/New_York:20220913T000000
DTEND;TZID=America/New_York:20220915T235959
DTSTAMP:20260422T183035
CREATED:20220621T193431Z
LAST-MODIFIED:20220621T193431Z
UID:10000071-1663027200-1663286399@ohiolifesciences.org
SUMMARY:Dayton Startup Week
DESCRIPTION:
URL:https://ohiolifesciences.org/event/dayton-startup-week/
LOCATION:Dayton Arcade\, 35 West Fourth Street\, Dayton\, OH\, 45402\, United States
CATEGORIES:Access to Capital,Business Development & Entrepreneurs,Medical Device & Equipment,Networking,Startups
GEO:39.7582771;-84.1922971
X-APPLE-STRUCTURED-LOCATION;VALUE=URI;X-ADDRESS=Dayton Arcade 35 West Fourth Street Dayton OH 45402 United States;X-APPLE-RADIUS=500;X-TITLE=35 West Fourth Street:geo:-84.1922971,39.7582771
END:VEVENT
END:VCALENDAR