BEGIN:VCALENDAR
VERSION:2.0
PRODID:-//Ohio Life Sciences - ECPv6.15.18//NONSGML v1.0//EN
CALSCALE:GREGORIAN
METHOD:PUBLISH
X-ORIGINAL-URL:https://ohiolifesciences.org
X-WR-CALDESC:Events for Ohio Life Sciences
REFRESH-INTERVAL;VALUE=DURATION:PT1H
X-Robots-Tag:noindex
X-PUBLISHED-TTL:PT1H
BEGIN:VTIMEZONE
TZID:America/New_York
BEGIN:DAYLIGHT
TZOFFSETFROM:-0500
TZOFFSETTO:-0400
TZNAME:EDT
DTSTART:20210314T070000
END:DAYLIGHT
BEGIN:STANDARD
TZOFFSETFROM:-0400
TZOFFSETTO:-0500
TZNAME:EST
DTSTART:20211107T060000
END:STANDARD
BEGIN:DAYLIGHT
TZOFFSETFROM:-0500
TZOFFSETTO:-0400
TZNAME:EDT
DTSTART:20220313T070000
END:DAYLIGHT
BEGIN:STANDARD
TZOFFSETFROM:-0400
TZOFFSETTO:-0500
TZNAME:EST
DTSTART:20221106T060000
END:STANDARD
BEGIN:DAYLIGHT
TZOFFSETFROM:-0500
TZOFFSETTO:-0400
TZNAME:EDT
DTSTART:20230312T070000
END:DAYLIGHT
BEGIN:STANDARD
TZOFFSETFROM:-0400
TZOFFSETTO:-0500
TZNAME:EST
DTSTART:20231105T060000
END:STANDARD
END:VTIMEZONE
BEGIN:VEVENT
DTSTART;TZID=America/New_York:20220303T130000
DTEND;TZID=America/New_York:20220303T160000
DTSTAMP:20260423T021637
CREATED:20211008T193705Z
LAST-MODIFIED:20211008T193705Z
UID:10000008-1646312400-1646323200@ohiolifesciences.org
SUMMARY:Nationwide Children's Hospital 2022 Technology Showcase
DESCRIPTION:
URL:https://ohiolifesciences.org/event/nationwide-childrens-hospital-2022-technology-showcase/
LOCATION:Online Event
CATEGORIES:Business Development & Entrepreneurs,Healthcare,Medical Device & Equipment,Online Event,Pharmaceuticals & Therapeutics,Research & Development,Startups,Technology
GEO:40.4172871;-82.907123
END:VEVENT
BEGIN:VEVENT
DTSTART;TZID=America/New_York:20220308T000000
DTEND;TZID=America/New_York:20220308T235959
DTSTAMP:20260423T021637
CREATED:20211214T141628Z
LAST-MODIFIED:20211214T141628Z
UID:10000018-1646697600-1646783999@ohiolifesciences.org
SUMMARY:Medtech Startup Symposium
DESCRIPTION:
URL:https://ohiolifesciences.org/event/medtech-startup-symposium/
LOCATION:Bounce Innovation Hub\, 526 S. Main Street\, Akron\, OH\, 44311\, United States
CATEGORIES:Business Development & Entrepreneurs,Medical Device & Equipment,Startups
GEO:41.0718997;-81.5270031
X-APPLE-STRUCTURED-LOCATION;VALUE=URI;X-ADDRESS=Bounce Innovation Hub 526 S. Main Street Akron OH 44311 United States;X-APPLE-RADIUS=500;X-TITLE=526 S. Main Street:geo:-81.5270031,41.0718997
END:VEVENT
BEGIN:VEVENT
DTSTART;TZID=America/New_York:20220316T113000
DTEND;TZID=America/New_York:20220316T130000
DTSTAMP:20260423T021637
CREATED:20220209T211411Z
LAST-MODIFIED:20220209T211411Z
UID:10000034-1647430200-1647435600@ohiolifesciences.org
SUMMARY:Central Ohio’s Role in Cell and Gene Therapy
DESCRIPTION:
URL:https://ohiolifesciences.org/event/central-ohios-role-in-cell-and-gene-therapy/
LOCATION:The Boat House at Confluence Park\, 679 W Spring St\, Columbus\, OH\, 43215\, United States
CATEGORIES:Pharmaceuticals & Therapeutics,Research & Development,Startups,Technology
GEO:39.9646851;-83.0181847
X-APPLE-STRUCTURED-LOCATION;VALUE=URI;X-ADDRESS=The Boat House at Confluence Park 679 W Spring St Columbus OH 43215 United States;X-APPLE-RADIUS=500;X-TITLE=679 W Spring St:geo:-83.0181847,39.9646851
END:VEVENT
END:VCALENDAR