BEGIN:VCALENDAR
VERSION:2.0
PRODID:-//Ohio Life Sciences - ECPv6.15.18//NONSGML v1.0//EN
CALSCALE:GREGORIAN
METHOD:PUBLISH
X-ORIGINAL-URL:https://ohiolifesciences.org
X-WR-CALDESC:Events for Ohio Life Sciences
REFRESH-INTERVAL;VALUE=DURATION:PT1H
X-Robots-Tag:noindex
X-PUBLISHED-TTL:PT1H
BEGIN:VTIMEZONE
TZID:America/New_York
BEGIN:DAYLIGHT
TZOFFSETFROM:-0500
TZOFFSETTO:-0400
TZNAME:EDT
DTSTART:20210314T070000
END:DAYLIGHT
BEGIN:STANDARD
TZOFFSETFROM:-0400
TZOFFSETTO:-0500
TZNAME:EST
DTSTART:20211107T060000
END:STANDARD
BEGIN:DAYLIGHT
TZOFFSETFROM:-0500
TZOFFSETTO:-0400
TZNAME:EDT
DTSTART:20220313T070000
END:DAYLIGHT
BEGIN:STANDARD
TZOFFSETFROM:-0400
TZOFFSETTO:-0500
TZNAME:EST
DTSTART:20221106T060000
END:STANDARD
BEGIN:DAYLIGHT
TZOFFSETFROM:-0500
TZOFFSETTO:-0400
TZNAME:EDT
DTSTART:20230312T070000
END:DAYLIGHT
BEGIN:STANDARD
TZOFFSETFROM:-0400
TZOFFSETTO:-0500
TZNAME:EST
DTSTART:20231105T060000
END:STANDARD
END:VTIMEZONE
BEGIN:VEVENT
DTSTART;TZID=America/New_York:20220913T130000
DTEND;TZID=America/New_York:20220913T140000
DTSTAMP:20260424T141539
CREATED:20220830T201109Z
LAST-MODIFIED:20220830T201109Z
UID:10000098-1663074000-1663077600@ohiolifesciences.org
SUMMARY:Reauthorization of SBIR/STTR Program Funding Webinar
DESCRIPTION:
URL:https://ohiolifesciences.org/event/reauthorization-of-sbir-sttr-program-funding-webinar/
LOCATION:Online Event
CATEGORIES:Advocacy & Government Affairs,Online Event,Regulatory & Reimbursement,Research & Development
ORGANIZER;CN="BIO":MAILTO:info@bio.org
GEO:40.4172871;-82.907123
END:VEVENT
BEGIN:VEVENT
DTSTART;TZID=America/New_York:20220915T140000
DTEND;TZID=America/New_York:20220915T150000
DTSTAMP:20260424T141539
CREATED:20220901T174240Z
LAST-MODIFIED:20220901T174240Z
UID:10000100-1663250400-1663254000@ohiolifesciences.org
SUMMARY:Choosing a Contract Manufacturer with the Right Quality and Regulatory Credentials
DESCRIPTION:
URL:https://ohiolifesciences.org/event/choosing-a-contract-manufacturer-with-the-right-quality-and-regulatory-credentials/
LOCATION:Online Event
CATEGORIES:Industry Information,Medical Device & Equipment,Professional Services,Regulatory & Reimbursement,Research & Development
GEO:40.4172871;-82.907123
END:VEVENT
BEGIN:VEVENT
DTSTART;TZID=America/New_York:20220920T000000
DTEND;TZID=America/New_York:20220922T235959
DTSTAMP:20260424T141539
CREATED:20220822T201611Z
LAST-MODIFIED:20220822T201611Z
UID:10000090-1663632000-1663891199@ohiolifesciences.org
SUMMARY:Back to Basics: Sharpen Your LC and GC Skills
DESCRIPTION:
URL:https://ohiolifesciences.org/event/back-to-basics-sharpen-your-lc-and-gc-skills/
LOCATION:Mason – Powell – Independence\, OH\, United States
CATEGORIES:Industry Information,Networking,Pharmaceuticals & Therapeutics,Research & Development,Training & Career Development
GEO:40.4172871;-82.907123
END:VEVENT
BEGIN:VEVENT
DTSTART;TZID=America/New_York:20220922T110000
DTEND;TZID=America/New_York:20220922T120000
DTSTAMP:20260424T141540
CREATED:20220822T193809Z
LAST-MODIFIED:20220822T193809Z
UID:10000086-1663844400-1663848000@ohiolifesciences.org
SUMMARY:Webinar: Biostatistics in IVD Clinical Research - Decoding the Biostatistical Black Box
DESCRIPTION:
URL:https://ohiolifesciences.org/event/webinar-biostatistics-in-ivd-clinical-research-decoding-the-biostatistical-black-box/
LOCATION:Online Event
CATEGORIES:Healthcare,Medical Device & Equipment,Online Event,Research & Development
GEO:40.4172871;-82.907123
END:VEVENT
BEGIN:VEVENT
DTSTART;TZID=America/New_York:20220923T110000
DTEND;TZID=America/New_York:20220923T160000
DTSTAMP:20260424T141540
CREATED:20220830T201609Z
LAST-MODIFIED:20220830T201609Z
UID:10000099-1663930800-1663948800@ohiolifesciences.org
SUMMARY:MDMA 2022 Medical Technology Executive Forum
DESCRIPTION:
URL:https://ohiolifesciences.org/event/mdma-2022-medical-technology-executive-forum/
LOCATION:Online Event
CATEGORIES:Access to Capital,Advocacy & Government Affairs,Medical Device & Equipment,Online Event,Regulatory & Reimbursement,Research & Development
GEO:40.4172871;-82.907123
END:VEVENT
BEGIN:VEVENT
DTSTART;TZID=America/New_York:20220927T090000
DTEND;TZID=America/New_York:20220927T150000
DTSTAMP:20260424T141540
CREATED:20220629T185841Z
LAST-MODIFIED:20220629T185841Z
UID:10000074-1664269200-1664290800@ohiolifesciences.org
SUMMARY:2022 ProMedica Innovations Summit
DESCRIPTION:
URL:https://ohiolifesciences.org/event/2022-promedica-innovations-summit/
LOCATION:Renaissance Toledo Downtown Hotel\, 444 North Summit Street\, Toledo\, OH\, 43604\, United States
CATEGORIES:Business Development & Entrepreneurs,Healthcare,Industry Information,Patient Perspectives,Research & Development
GEO:41.6524291;-83.5315208
X-APPLE-STRUCTURED-LOCATION;VALUE=URI;X-ADDRESS=Renaissance Toledo Downtown Hotel 444 North Summit Street Toledo OH 43604 United States;X-APPLE-RADIUS=500;X-TITLE=444 North Summit Street:geo:-83.5315208,41.6524291
END:VEVENT
END:VCALENDAR