BEGIN:VCALENDAR
VERSION:2.0
PRODID:-//Ohio Life Sciences - ECPv6.15.18//NONSGML v1.0//EN
CALSCALE:GREGORIAN
METHOD:PUBLISH
X-WR-CALNAME:Ohio Life Sciences
X-ORIGINAL-URL:https://ohiolifesciences.org
X-WR-CALDESC:Events for Ohio Life Sciences
REFRESH-INTERVAL;VALUE=DURATION:PT1H
X-Robots-Tag:noindex
X-PUBLISHED-TTL:PT1H
BEGIN:VTIMEZONE
TZID:America/New_York
BEGIN:DAYLIGHT
TZOFFSETFROM:-0500
TZOFFSETTO:-0400
TZNAME:EDT
DTSTART:20210314T070000
END:DAYLIGHT
BEGIN:STANDARD
TZOFFSETFROM:-0400
TZOFFSETTO:-0500
TZNAME:EST
DTSTART:20211107T060000
END:STANDARD
BEGIN:DAYLIGHT
TZOFFSETFROM:-0500
TZOFFSETTO:-0400
TZNAME:EDT
DTSTART:20220313T070000
END:DAYLIGHT
BEGIN:STANDARD
TZOFFSETFROM:-0400
TZOFFSETTO:-0500
TZNAME:EST
DTSTART:20221106T060000
END:STANDARD
BEGIN:DAYLIGHT
TZOFFSETFROM:-0500
TZOFFSETTO:-0400
TZNAME:EDT
DTSTART:20230312T070000
END:DAYLIGHT
BEGIN:STANDARD
TZOFFSETFROM:-0400
TZOFFSETTO:-0500
TZNAME:EST
DTSTART:20231105T060000
END:STANDARD
END:VTIMEZONE
BEGIN:VEVENT
DTSTART;TZID=America/New_York:20220302T120000
DTEND;TZID=America/New_York:20220302T130000
DTSTAMP:20260424T085518
CREATED:20220221T160354Z
LAST-MODIFIED:20220221T160354Z
UID:10000039-1646222400-1646226000@ohiolifesciences.org
SUMMARY:Building Farmer's Trust: Delivery of Ag Biologicals
DESCRIPTION:
URL:https://ohiolifesciences.org/event/building-farmers-trust-delivery/
LOCATION:Online Event
CATEGORIES:Agricultural Biotechnology,Online Event,Technology
GEO:40.4172871;-82.907123
END:VEVENT
BEGIN:VEVENT
DTSTART;TZID=America/New_York:20220303T130000
DTEND;TZID=America/New_York:20220303T160000
DTSTAMP:20260424T085518
CREATED:20211008T193705Z
LAST-MODIFIED:20211008T193705Z
UID:10000008-1646312400-1646323200@ohiolifesciences.org
SUMMARY:Nationwide Children's Hospital 2022 Technology Showcase
DESCRIPTION:
URL:https://ohiolifesciences.org/event/nationwide-childrens-hospital-2022-technology-showcase/
LOCATION:Online Event
CATEGORIES:Business Development & Entrepreneurs,Healthcare,Medical Device & Equipment,Online Event,Pharmaceuticals & Therapeutics,Research & Development,Startups,Technology
GEO:40.4172871;-82.907123
END:VEVENT
BEGIN:VEVENT
DTSTART;TZID=America/New_York:20220318T100000
DTEND;TZID=America/New_York:20220318T103000
DTSTAMP:20260424T085518
CREATED:20220316T195540Z
LAST-MODIFIED:20220316T195540Z
UID:10000043-1647597600-1647599400@ohiolifesciences.org
SUMMARY:Non-Dilutive Funding: Monthly GBG Reporting Service Webinar
DESCRIPTION:
URL:https://ohiolifesciences.org/event/non-dilutive-funding-monthly-gbg-reporting-service-webinar/
LOCATION:Online Event
CATEGORIES:Access to Capital,Advocacy & Government Affairs,Online Event
GEO:40.4172871;-82.907123
END:VEVENT
BEGIN:VEVENT
DTSTART;TZID=America/New_York:20220323T120000
DTEND;TZID=America/New_York:20220323T130000
DTSTAMP:20260424T085518
CREATED:20220318T152224Z
LAST-MODIFIED:20220318T152224Z
UID:10000044-1648036800-1648040400@ohiolifesciences.org
SUMMARY:Founders Unfiltered: A Conversation with Dr. Dan German\, Founder of Orthobrain
DESCRIPTION:
URL:https://ohiolifesciences.org/event/founders-unfiltered-a-conversation-with-dr-dan-german-founder-of-orthobrain/
LOCATION:Online Event
CATEGORIES:Business Development & Entrepreneurs,Healthcare,Medical Device & Equipment,Online Event
GEO:40.4172871;-82.907123
END:VEVENT
BEGIN:VEVENT
DTSTART;TZID=America/New_York:20220323T160000
DTEND;TZID=America/New_York:20220323T170000
DTSTAMP:20260424T085518
CREATED:20220322T150750Z
LAST-MODIFIED:20220322T150750Z
UID:10000051-1648051200-1648054800@ohiolifesciences.org
SUMMARY:Virtual Medtech Happy Hour: Securing Non-Dilutive Funding Through SBIR/STTR Grants
DESCRIPTION:
URL:https://ohiolifesciences.org/event/virtual-medtech-happy-hour-securing-non-dilutive-funding-through-sbir-sttr-grants/
LOCATION:Online Event
CATEGORIES:Business Development & Entrepreneurs,Medical Device & Equipment,Networking,Online Event
GEO:40.4172871;-82.907123
END:VEVENT
BEGIN:VEVENT
DTSTART;TZID=America/New_York:20220324T090000
DTEND;TZID=America/New_York:20220324T100000
DTSTAMP:20260424T085518
CREATED:20220210T161928Z
LAST-MODIFIED:20220210T161928Z
UID:10000035-1648112400-1648116000@ohiolifesciences.org
SUMMARY:Clinical Challenges Under the EU MDR
DESCRIPTION:
URL:https://ohiolifesciences.org/event/clinical-challenges-under-the-eu-mdr/
LOCATION:Online Event
CATEGORIES:Medical Device & Equipment,Online Event,Regulatory & Reimbursement,Research & Development
GEO:40.4172871;-82.907123
END:VEVENT
BEGIN:VEVENT
DTSTART;TZID=America/New_York:20220324T140000
DTEND;TZID=America/New_York:20220324T150000
DTSTAMP:20260424T085518
CREATED:20220322T150330Z
LAST-MODIFIED:20220322T150330Z
UID:10000050-1648130400-1648134000@ohiolifesciences.org
SUMMARY:Humanizing Healthcare: Elevating Health Experiences
DESCRIPTION:
URL:https://ohiolifesciences.org/event/humanizing-healthcare-elevating-health-experiences/
LOCATION:Online Event
CATEGORIES:Healthcare,Online Event,Patient Perspectives
ORGANIZER;CN="Columbus Business First":MAILTO:dlosos@bizjournals.com
GEO:40.4172871;-82.907123
END:VEVENT
BEGIN:VEVENT
DTSTART;TZID=America/New_York:20220328T090000
DTEND;TZID=America/New_York:20220328T100000
DTSTAMP:20260424T085518
CREATED:20220318T154706Z
LAST-MODIFIED:20220318T154706Z
UID:10000047-1648458000-1648461600@ohiolifesciences.org
SUMMARY:The Need for Transitional Coverage for Emerging Technologies (TCET)
DESCRIPTION:
URL:https://ohiolifesciences.org/event/the-need-for-transitional-coverage-for-emerging-technologies-tcet/
LOCATION:Online Event
CATEGORIES:Advocacy & Government Affairs,Medical Device & Equipment,Online Event,Professional Services,Regulatory & Reimbursement
GEO:40.4172871;-82.907123
END:VEVENT
END:VCALENDAR