BEGIN:VCALENDAR
VERSION:2.0
PRODID:-//Ohio Life Sciences - ECPv6.15.18//NONSGML v1.0//EN
CALSCALE:GREGORIAN
METHOD:PUBLISH
X-ORIGINAL-URL:https://ohiolifesciences.org
X-WR-CALDESC:Events for Ohio Life Sciences
REFRESH-INTERVAL;VALUE=DURATION:PT1H
X-Robots-Tag:noindex
X-PUBLISHED-TTL:PT1H
BEGIN:VTIMEZONE
TZID:America/New_York
BEGIN:DAYLIGHT
TZOFFSETFROM:-0500
TZOFFSETTO:-0400
TZNAME:EDT
DTSTART:20240310T070000
END:DAYLIGHT
BEGIN:STANDARD
TZOFFSETFROM:-0400
TZOFFSETTO:-0500
TZNAME:EST
DTSTART:20241103T060000
END:STANDARD
BEGIN:DAYLIGHT
TZOFFSETFROM:-0500
TZOFFSETTO:-0400
TZNAME:EDT
DTSTART:20250309T070000
END:DAYLIGHT
BEGIN:STANDARD
TZOFFSETFROM:-0400
TZOFFSETTO:-0500
TZNAME:EST
DTSTART:20251102T060000
END:STANDARD
BEGIN:DAYLIGHT
TZOFFSETFROM:-0500
TZOFFSETTO:-0400
TZNAME:EDT
DTSTART:20260308T070000
END:DAYLIGHT
BEGIN:STANDARD
TZOFFSETFROM:-0400
TZOFFSETTO:-0500
TZNAME:EST
DTSTART:20261101T060000
END:STANDARD
END:VTIMEZONE
BEGIN:VEVENT
DTSTART;TZID=America/New_York:20250910T000000
DTEND;TZID=America/New_York:20250912T235959
DTSTAMP:20260420T203639
CREATED:20250514T154052Z
LAST-MODIFIED:20250514T154052Z
UID:10000273-1757462400-1757721599@ohiolifesciences.org
SUMMARY:analytica USA 2025
DESCRIPTION:analytica USA is the latest trade fair for the analysis\, laboratory-technology and biotechnology sectors\, bringing together scientists\, entrepreneurs and users from around the world. Welcome to the perfect platform for your international business relations.
URL:https://ohiolifesciences.org/event/analytica-usa-2025/
LOCATION:Greater Columbus Convention Center\, 400 North High Street\, Columbus\, OH\, 43215\, United States
CATEGORIES:Laboratory Equipment,Medical Device & Equipment,Research & Development
ATTACH;FMTTYPE=image/jpeg:https://ohiolifesciences.org/wp-content/uploads/2025/05/Analytica_USA-website-.jpg
ORGANIZER;CN="Analytica USA":MAILTO:kglass@tssworldwide.com
GEO:39.9716799;-83.0011302
X-APPLE-STRUCTURED-LOCATION;VALUE=URI;X-ADDRESS=Greater Columbus Convention Center 400 North High Street Columbus OH 43215 United States;X-APPLE-RADIUS=500;X-TITLE=400 North High Street:geo:-83.0011302,39.9716799
END:VEVENT
END:VCALENDAR