BEGIN:VCALENDAR
VERSION:2.0
PRODID:-//Ohio Life Sciences - ECPv6.15.18//NONSGML v1.0//EN
CALSCALE:GREGORIAN
METHOD:PUBLISH
X-WR-CALNAME:Ohio Life Sciences
X-ORIGINAL-URL:https://ohiolifesciences.org
X-WR-CALDESC:Events for Ohio Life Sciences
REFRESH-INTERVAL;VALUE=DURATION:PT1H
X-Robots-Tag:noindex
X-PUBLISHED-TTL:PT1H
BEGIN:VTIMEZONE
TZID:America/New_York
BEGIN:DAYLIGHT
TZOFFSETFROM:-0500
TZOFFSETTO:-0400
TZNAME:EDT
DTSTART:20240310T070000
END:DAYLIGHT
BEGIN:STANDARD
TZOFFSETFROM:-0400
TZOFFSETTO:-0500
TZNAME:EST
DTSTART:20241103T060000
END:STANDARD
BEGIN:DAYLIGHT
TZOFFSETFROM:-0500
TZOFFSETTO:-0400
TZNAME:EDT
DTSTART:20250309T070000
END:DAYLIGHT
BEGIN:STANDARD
TZOFFSETFROM:-0400
TZOFFSETTO:-0500
TZNAME:EST
DTSTART:20251102T060000
END:STANDARD
BEGIN:DAYLIGHT
TZOFFSETFROM:-0500
TZOFFSETTO:-0400
TZNAME:EDT
DTSTART:20260308T070000
END:DAYLIGHT
BEGIN:STANDARD
TZOFFSETFROM:-0400
TZOFFSETTO:-0500
TZNAME:EST
DTSTART:20261101T060000
END:STANDARD
END:VTIMEZONE
BEGIN:VEVENT
DTSTART;TZID=America/New_York:20251210T100000
DTEND;TZID=America/New_York:20251210T223000
DTSTAMP:20260424T095829
CREATED:20251113T192751Z
LAST-MODIFIED:20251113T192751Z
UID:123108-1765360800-1765405800@ohiolifesciences.org
SUMMARY:Advancing Ohio Together: Partnering for Life Science Ready Communities
DESCRIPTION:Join Ohio Life Sciences Association and the OEDA to learn how your community can earn the Life Science Ready Community Designation.\n\n\n\nOhio’s life sciences sector is expanding rapidly\, creating new opportunities for innovation\, investment\, and community growth. Join Ohio Life Sciences Association and the Ohio Economic Development Association for an informative webinar introducing the Life Science Ready Community Designation program.
URL:https://ohiolifesciences.org/event/advancing-ohio-together-partnering-for-life-science-ready-communities/
CATEGORIES:Business Development & Entrepreneurs,Virtual Events & Webinars
ATTACH;FMTTYPE=image/jpeg:https://ohiolifesciences.org/wp-content/uploads/2025/11/Bio2025_Dinner-12.jpg
LOCATION:https://ohiolifesciences.org/event/advancing-ohio-together-partnering-for-life-science-ready-communities/
END:VEVENT
END:VCALENDAR